BEGIN:VCALENDAR
VERSION:2.0
PRODID:-//SATOG - ECPv6.15.20//NONSGML v1.0//EN
CALSCALE:GREGORIAN
METHOD:PUBLISH
X-ORIGINAL-URL:https://satog.org
X-WR-CALDESC:Dogodki za SATOG
REFRESH-INTERVAL;VALUE=DURATION:PT1H
X-Robots-Tag:noindex
X-PUBLISHED-TTL:PT1H
BEGIN:VTIMEZONE
TZID:UTC
BEGIN:STANDARD
TZOFFSETFROM:+0000
TZOFFSETTO:+0000
TZNAME:UTC
DTSTART:20230101T000000
END:STANDARD
END:VTIMEZONE
BEGIN:VEVENT
DTSTART;VALUE=DATE:20241129
DTEND;VALUE=DATE:20241130
DTSTAMP:20260421T093054
CREATED:20240923T164914Z
LAST-MODIFIED:20241004T162952Z
UID:2706-1732838400-1732924799@satog.org
SUMMARY:XVI. spominski sestanek akad. prof. dr. Lidije Andolšek Jeras
DESCRIPTION:Tema srečanja: Kakovost življenja v poznih srednjih letih\n\nSpoštovane kolegice in kolegi in drugi sodelavci! \nVljudno vabljeni na tradicionalni XVI. spominski sestanek akad. prof. dr. Lidije Andolšek-Jeras\, ki bo v petek\, 29. novembra 2024\, v Modri dvorani Domus Medica v Ljubljani. \nLetošnje srečanje bo potekalo na temo »Kakovost življenja v poznih srednjih letih«. Na sestanku bomo obravnavali aktualno temo kakovosti življenja v poznih srednjih letih tako žensk kot moških. Seznanili se bomo s fiziološkimi in socialnimi vidiki poznih srednjih let in staranja\, izvedeli\, kako preprečiti in zdraviti najpogostejša stanja ter kako je s spolnostjo in telesno dejavnostjo v poznih srednjih letih. Sestanek bo interdisciplinaren\, poleg ginekologov in porodničarjev bodo sodelovali tudi strokovnjaki drugih strok. \nSestanek  je namenjen specialistom in specializantom ginekologije in porodništva in drugih strok ter drugim zdravstvenim delavcem in strokovnjakom iz povezanih področij. Aktivnosti za pridobivanje licenčnih točk potekajo tako pri Zdravniški zbornici Slovenije\, kot pri Zbornici zdravstvene in babiške nege Slovenije – Zvezi strokovnih društev medicinskih sester\, babic in zdravstvenih tehnikov Slovenije. \nVeselimo se srečanja z vami! \nPrizorišče: Domus Medica\, Ljubljana\nČas dogajanja: 29. november\, 2024 \nKotizacija:  100€ za specializante\, babice in medicinske sestre\, 200€ za specialiste. \n 
URL:https://satog.org/event/kakovost-zivljenja-v-poznih-srednjih-letih/
CATEGORIES:Slovenski dogodek
ATTACH;FMTTYPE=image/jpeg:https://satog.org/wp-content/uploads/2024/09/Andolskini-dnevi.jpg
END:VEVENT
BEGIN:VEVENT
DTSTART;VALUE=DATE:20241129
DTEND;VALUE=DATE:20241201
DTSTAMP:20260421T093054
CREATED:20241015T162114Z
LAST-MODIFIED:20241015T162114Z
UID:2760-1732838400-1733011199@satog.org
SUMMARY:15. Baničevi dnevi: Sodobni izzivi in napredki pri obvladovanju okužb v ginekologiji\, porodništvu in spolno prenosljivih okužb
DESCRIPTION:Spoštovani! \nVljudno vas vabimo na 15. Baničeve dneve z naslovom: Sodobni izzivi in napredki pri obvladovanju okužb v ginekologiji\, porodništvu in spolno prenosljivih okužb\, \nki bodo 29. in 30. novembra 2024\, v Hotelu City\, Ulica kneza Koclja 22\, v Mariboru. \nV priponki vam pošiljamo vabilo in program srečanja. \nPrijavite se preko spodnje povezave na Domus Medica: https://www.domusmedica.si/dogodki \nLepo vabljeni in lep pozdrav\, \nV imenu organizacijskega odbora: \nDr. Andrej Golle\, dr. med.\, spec. klin. mikrobiol.
URL:https://satog.org/event/15-banicevi-dnevi-sodobni-izzivi-in-napredki-pri-obvladovanju-okuzb-v-ginekologiji-porodnistvu-in-spolno-prenosljivih-okuzb/
LOCATION:Hotel City Maribor
CATEGORIES:Slovenski dogodek
ATTACH;FMTTYPE=image/jpeg:https://satog.org/wp-content/uploads/2024/10/Banicevi-dnevi.jpg
END:VEVENT
END:VCALENDAR