BEGIN:VCALENDAR
VERSION:2.0
PRODID:-//SATOG - ECPv6.15.20//NONSGML v1.0//EN
CALSCALE:GREGORIAN
METHOD:PUBLISH
X-ORIGINAL-URL:https://satog.org
X-WR-CALDESC:Dogodki za SATOG
REFRESH-INTERVAL;VALUE=DURATION:PT1H
X-Robots-Tag:noindex
X-PUBLISHED-TTL:PT1H
BEGIN:VTIMEZONE
TZID:UTC
BEGIN:STANDARD
TZOFFSETFROM:+0000
TZOFFSETTO:+0000
TZNAME:UTC
DTSTART:20230101T000000
END:STANDARD
END:VTIMEZONE
BEGIN:VEVENT
DTSTART;VALUE=DATE:20241202
DTEND;VALUE=DATE:20241206
DTSTAMP:20260421T133857
CREATED:20240926T180059Z
LAST-MODIFIED:20240926T180059Z
UID:2731-1733097600-1733443199@satog.org
SUMMARY:8. MARIBORSKA ŠOLA PRAKTIČNE ULTRAZVOČNE DIAGNOSTIKE V GINEKOLOGIJI IN PERINATOLOGIJI
DESCRIPTION:Za zdravnike specializante ginekologije in porodništva\, specializante in specialiste družinske medicine\, specializante in specialiste urgentne medicine\, zdravnike pripravnike \nPonedeljek\, 2.12. 2024\nTorek\, 3.12. 2024\nSreda\, 4. 12. 2024\nČetrtek\, 5. 12. 2024 \nVelika predavalnica prim. dr. Zmaga Slokana\n16. etaža Klinike za kirurgijo UKC Maribor \nŠtevilo udeležencev:\nPredavanja: do 60\nPredavanja in delo s pacienti: do 20 \nKotizacija:\n• 380\,00 EUR (z vključenim DDV) – Kotizacija vključuje predavanje in delo s pacienti (učna delavnica)\, pogostitve med odmori\n• 120\,00 EUR (z vključenim DDV) – Kotizacija\nvključuje predavanja in pogostitve med odmori \n  \nVeč informacij na povezavi.
URL:https://satog.org/event/8-mariborska-sola-prakticne-ultrazvocne-diagnostike-v-ginekologiji-in-perinatologiji/
LOCATION:Velika predavalnica klinike za kirurgijo\, UKC Maribor\, Ljubljanska ulica 5\, 2000 Maribor
CATEGORIES:Slovenski dogodek
ATTACH;FMTTYPE=image/jpeg:https://satog.org/wp-content/uploads/2024/09/UZ-sola.jpg
END:VEVENT
END:VCALENDAR