BEGIN:VCALENDAR
VERSION:2.0
PRODID:-//SATOG - ECPv6.15.20//NONSGML v1.0//EN
CALSCALE:GREGORIAN
METHOD:PUBLISH
X-WR-CALNAME:SATOG
X-ORIGINAL-URL:https://satog.org
X-WR-CALDESC:Dogodki za SATOG
REFRESH-INTERVAL;VALUE=DURATION:PT1H
X-Robots-Tag:noindex
X-PUBLISHED-TTL:PT1H
BEGIN:VTIMEZONE
TZID:UTC
BEGIN:STANDARD
TZOFFSETFROM:+0000
TZOFFSETTO:+0000
TZNAME:UTC
DTSTART:20240101T000000
END:STANDARD
END:VTIMEZONE
BEGIN:VEVENT
DTSTART;TZID=UTC:20251019T080000
DTEND;TZID=UTC:20251022T170000
DTSTAMP:20260421T105340
CREATED:20250208T092931Z
LAST-MODIFIED:20250208T092931Z
UID:3073-1760860800-1761152400@satog.org
SUMMARY:ESGE 34th Annual Congress 2025
DESCRIPTION:Dear Colleagues and Friends \nWe are pleased to announce that the 34th Annual Congress of the European Society for Gynaecological Endoscopy will take place in Istanbul from 19 to 22 October 2025. As a global organisation in gynaecological surgery\, the ESGE continues to bring together clinicians\, researchers\, innovators and manufacturers from all over the world and provide a platform for the exchange of experience\, ideas and debate. With our ever-growing membership and attendance at the ESGE Congresses\, the next Annual Congress promises to be another lively and exciting event. \nThe Congress is taking place in the most beautiful city of Istanbul\, a vibrant location with a wealth of history and culture at the crossroads of three main continents and bridging over Europe and Asia. It has one of the best travel links from all parts of the world making it an easy destination to reach. We have no doubt that the Congress will be an excellent opportunity to meet colleagues\, view or demonstrate new technologies and techniques and make new friends. We look forward to seeing you in Istanbul in October 2025. \nYours sincerely\, \n\n -Prof. Ertan Saridogan\nESGE President\nProf. Cagatay Taskiran\nCongress President\nProf. Recai Pabuccu\nHonorary Congress President\nDr Luis Alonso Pacheco\nScientific Chair\nProf. Pierre Collinet\nScientific Chair\nProf. Fatih Sendag\nChair Local Organising Committee
URL:https://satog.org/event/esge-34th-annual-congress-2025/
LOCATION:Istanbul\, Turčija
ATTACH;FMTTYPE=image/png:https://satog.org/wp-content/uploads/2025/02/ESGE-34.png
END:VEVENT
END:VCALENDAR