BEGIN:VCALENDAR
VERSION:2.0
PRODID:-//SATOG - ECPv6.15.20//NONSGML v1.0//EN
CALSCALE:GREGORIAN
METHOD:PUBLISH
X-ORIGINAL-URL:https://satog.org
X-WR-CALDESC:Dogodki za SATOG
REFRESH-INTERVAL;VALUE=DURATION:PT1H
X-Robots-Tag:noindex
X-PUBLISHED-TTL:PT1H
BEGIN:VTIMEZONE
TZID:UTC
BEGIN:STANDARD
TZOFFSETFROM:+0000
TZOFFSETTO:+0000
TZNAME:UTC
DTSTART:20240101T000000
END:STANDARD
END:VTIMEZONE
BEGIN:VEVENT
DTSTART;VALUE=DATE:20251021
DTEND;VALUE=DATE:20251026
DTSTAMP:20260421T105631
CREATED:20250404T080826Z
LAST-MODIFIED:20250404T080826Z
UID:3228-1761004800-1761436799@satog.org
SUMMARY:jENS: 6th Congress of joint European Neonatal Societies
DESCRIPTION:Main Congress Topics\n\n\n\n\n\nNeurology\nCardiac Physiology Pathology\nNeonatal Pulmonology\, Neonatal\nRespiratory Support\, Resuscitation\nPerinatal Pharmacology and Anesthesia\nEpidemiology & Networks\nNeonatal Fetal Nutrition and Metabolism\nNursing and Healthcare Professional\nNeonatal GI Physiology & NEC\nNeonatal Hematology and Bilirubin\nCirculation\, Macro- and Microcirculation\nNeonatal Infections Diseases / Immunology\nNICU Quality Improvement\, Parents Centre Care\nPerinatal Practices\nFollow Up
URL:https://satog.org/event/jens-6th-congress-of-joint-european-neonatal-societies/
LOCATION:Beograd\, Srbija
ATTACH;FMTTYPE=image/jpeg:https://satog.org/wp-content/uploads/2025/04/jENS.jpg
END:VEVENT
BEGIN:VEVENT
DTSTART;TZID=UTC:20251024T080000
DTEND;TZID=UTC:20251024T150000
DTSTAMP:20260421T105631
CREATED:20250929T201711Z
LAST-MODIFIED:20250929T201711Z
UID:3579-1761292800-1761318000@satog.org
SUMMARY:Simulacijske delavnice: Osnovne kirurške tehnike
DESCRIPTION:Tradicionalne SATOG simulacijske delavnice. Spremljajte e-mailing listo za več informacij.
URL:https://satog.org/event/simulacijske-delavnice-osnovne-kirurske-tehnike/
LOCATION:Ginekološka klinika UKCL
CATEGORIES:Slovenski dogodek
ATTACH;FMTTYPE=image/png:https://satog.org/wp-content/uploads/2022/12/satog.png
END:VEVENT
END:VCALENDAR