BEGIN:VCALENDAR
VERSION:2.0
PRODID:-//SATOG - ECPv6.15.20//NONSGML v1.0//EN
CALSCALE:GREGORIAN
METHOD:PUBLISH
X-ORIGINAL-URL:https://satog.org
X-WR-CALDESC:Dogodki za SATOG
REFRESH-INTERVAL;VALUE=DURATION:PT1H
X-Robots-Tag:noindex
X-PUBLISHED-TTL:PT1H
BEGIN:VTIMEZONE
TZID:UTC
BEGIN:STANDARD
TZOFFSETFROM:+0000
TZOFFSETTO:+0000
TZNAME:UTC
DTSTART:20240101T000000
END:STANDARD
END:VTIMEZONE
BEGIN:VEVENT
DTSTART;VALUE=DATE:20251026
DTEND;VALUE=DATE:20251027
DTSTAMP:20260421T105709
CREATED:20250904T143958Z
LAST-MODIFIED:20250904T143958Z
UID:3523-1761436800-1761523199@satog.org
SUMMARY:ISUOG: Obstetrics scanning beyond the fetus
DESCRIPTION:Join us for this livestream course ‘Obstetrics scanning beyond the fetus’ on Sunday 26 of October 2025\, led by Prof. Eric Jauniaux\, Prof. Francesco D’Antonio & Prof. Davor Jurkovic. \nThis one-day course offers an in-depth exploration of advanced ultrasound assessment in pregnancy\, focusing on placental\, uterine\, ovarian\, and pelvic pathologies. Participants will gain up-to-date knowledge on the diagnosis and evidence-based management of conditions such as placenta previa\, placenta accreta spectrum disorders\, and umbilical cord anomalies. The course also covers the use of advanced imaging techniques to assess the utero-placental interface and identify pathological changes. \nIt is highly relevant for healthcare professionals involved in obstetrics\, maternal-fetal medicine\, gynecology\, and medical imaging. \nAttendees will enhance their ability to interpret complex ultrasound findings\, differentiate between benign and malignant ovarian tumors in pregnancy\, and apply a systematic approach to evaluating pelvic and bladder pathologies.
URL:https://satog.org/event/isuog-obstetrics-scanning-beyond-the-fetus/
LOCATION:Webinar
ATTACH;FMTTYPE=image/jpeg:https://satog.org/wp-content/uploads/2025/09/Obstetrics-scanning.jpg
END:VEVENT
END:VCALENDAR