BEGIN:VCALENDAR
VERSION:2.0
PRODID:-//SATOG - ECPv6.15.20//NONSGML v1.0//EN
CALSCALE:GREGORIAN
METHOD:PUBLISH
X-ORIGINAL-URL:https://satog.org
X-WR-CALDESC:Dogodki za SATOG
REFRESH-INTERVAL;VALUE=DURATION:PT1H
X-Robots-Tag:noindex
X-PUBLISHED-TTL:PT1H
BEGIN:VTIMEZONE
TZID:UTC
BEGIN:STANDARD
TZOFFSETFROM:+0000
TZOFFSETTO:+0000
TZNAME:UTC
DTSTART:20240101T000000
END:STANDARD
END:VTIMEZONE
BEGIN:VEVENT
DTSTART;TZID=UTC:20251111T190000
DTEND;TZID=UTC:20251111T210000
DTSTAMP:20260423T202353
CREATED:20250816T095301Z
LAST-MODIFIED:20250816T095301Z
UID:3488-1762887600-1762894800@satog.org
SUMMARY:ESGO Webinar: Oncogenetics in Focus: From Risk to Prevention in Women’s Cancers
DESCRIPTION:This webinar will explore the evolving landscape of oncogenetics with a focus on genetic testing and its role in cancer risk assessment\, prevention\, and personalized care in gynecologic oncology. Experts will discuss the latest advances in genetic screening\, including the clinical application of BRCA and Lynch syndrome testing\, as well as the emergence of new preventive testing kits now available on the market. A special emphasis will be placed on the gynecologic implications of Lynch syndrome\, particularly the elevated risks for endometrial and ovarian cancers and the strategies for risk-reducing management. The program will also delve into recent findings from genome-wide association studies (GWAS) that shed light on genetic variation in cervical preinvasive and invasive disease\, expanding our understanding of inherited susceptibility beyond traditional markers. This session will provide clinicians\, genetic counselors\, and researchers with valuable insights into how genetic information can inform screening decisions\, guide preventive strategies\, and shape the future of personalized cancer care.
URL:https://satog.org/event/esgo-webinar-oncogenetics-in-focus-from-risk-to-prevention-in-womens-cancers/
LOCATION:Webinar
ATTACH;FMTTYPE=image/png:https://satog.org/wp-content/uploads/2025/08/oncogenetics.png
END:VEVENT
END:VCALENDAR