BEGIN:VCALENDAR
VERSION:2.0
PRODID:-//SATOG - ECPv6.15.20//NONSGML v1.0//EN
CALSCALE:GREGORIAN
METHOD:PUBLISH
X-ORIGINAL-URL:https://satog.org
X-WR-CALDESC:Dogodki za SATOG
REFRESH-INTERVAL;VALUE=DURATION:PT1H
X-Robots-Tag:noindex
X-PUBLISHED-TTL:PT1H
BEGIN:VTIMEZONE
TZID:UTC
BEGIN:STANDARD
TZOFFSETFROM:+0000
TZOFFSETTO:+0000
TZNAME:UTC
DTSTART:20240101T000000
END:STANDARD
END:VTIMEZONE
BEGIN:VEVENT
DTSTART;VALUE=DATE:20251117
DTEND;VALUE=DATE:20251119
DTSTAMP:20260424T001704
CREATED:20250404T081922Z
LAST-MODIFIED:20250404T081922Z
UID:3239-1763337600-1763510399@satog.org
SUMMARY:Course on Molecular Pathology and Targeted Therapy in Endometrial and Ovarian Cancer
DESCRIPTION:This course is focusing on the molecular pathology of endometrial and ovarian cancers and how knowledge of developments in this field has impacted on the understanding of diseases and how this information can be used to develop a targeted therapeutic approach. The course will be taught by an international faculty of Pathologists and Clinicians to integrate learning in this rapidly advancing field. \nThe course will cover key elements of Molecular Pathology of Endometrial and Ovarian Cancers. Each topic will relate directly to the clinical relevance of the area. The key subject areas are \n\nMolecular Markers in High Grade Ovarian Cancer\nLow Grade Ovarian Cancers\nClear Cell Ovarian Cancer\nEndometrial tumours\, including trophoblastic disease\n\nThe format will include brief presentations followed by interactive discussion with the audience. There will be a special session focused on case studies presentations and discussions.
URL:https://satog.org/event/course-on-molecular-pathology-and-targeted-therapy-in-endometrial-and-ovarian-cancer/
LOCATION:Dunaj
ATTACH;FMTTYPE=image/jpeg:https://satog.org/wp-content/uploads/2025/04/molecular-pathology.jpg
END:VEVENT
BEGIN:VEVENT
DTSTART;TZID=UTC:20251117T113000
DTEND;TZID=UTC:20251117T133000
DTSTAMP:20260424T001704
CREATED:20251108T175316Z
LAST-MODIFIED:20251108T175316Z
UID:3696-1763379000-1763386200@satog.org
SUMMARY:Endometriosis and Bladder Pain Syndrome - When Gynecology and Urogynecology Come Together
DESCRIPTION:The IUGA Fellows\, Trainees\, and Early Career Professionals committee in conjunction with Pre-Vocational Obstetrics & Gynaecology Society (PVOGS) of Australia & New Zealand collaborate for a webinar discussing endometriosis and bladder pain syndrome and the complexities that occur in diagnosis and treatment when these conditions overlap. Don’t miss this opportunity to delve into this important topic.
URL:https://satog.org/event/endometriosis-and-bladder-pain-syndrome-when-gynecology-and-urogynecology-come-together/
LOCATION:Webinar
ATTACH;FMTTYPE=image/png:https://satog.org/wp-content/uploads/2025/01/IUGA-Webinar1.png
END:VEVENT
END:VCALENDAR