BEGIN:VCALENDAR
VERSION:2.0
PRODID:-//SATOG - ECPv6.15.20//NONSGML v1.0//EN
CALSCALE:GREGORIAN
METHOD:PUBLISH
X-ORIGINAL-URL:https://satog.org
X-WR-CALDESC:Dogodki za SATOG
REFRESH-INTERVAL;VALUE=DURATION:PT1H
X-Robots-Tag:noindex
X-PUBLISHED-TTL:PT1H
BEGIN:VTIMEZONE
TZID:UTC
BEGIN:STANDARD
TZOFFSETFROM:+0000
TZOFFSETTO:+0000
TZNAME:UTC
DTSTART:20240101T000000
END:STANDARD
END:VTIMEZONE
BEGIN:VEVENT
DTSTART;TZID=UTC:20251119T143000
DTEND;TZID=UTC:20251119T153000
DTSTAMP:20260424T025049
CREATED:20251028T173020Z
LAST-MODIFIED:20251028T173020Z
UID:3664-1763562600-1763566200@satog.org
SUMMARY:Edukativna sreda
DESCRIPTION:Atipična hiperplazija endometrija
URL:https://satog.org/event/edukativna-sreda-5/
LOCATION:Seminar PB
CATEGORIES:Slovenski dogodek
ATTACH;FMTTYPE=image/png:https://satog.org/wp-content/uploads/2022/12/satog.png
END:VEVENT
END:VCALENDAR