BEGIN:VCALENDAR
VERSION:2.0
PRODID:-//SATOG - ECPv6.15.20//NONSGML v1.0//EN
CALSCALE:GREGORIAN
METHOD:PUBLISH
X-ORIGINAL-URL:https://satog.org
X-WR-CALDESC:Dogodki za SATOG
REFRESH-INTERVAL;VALUE=DURATION:PT1H
X-Robots-Tag:noindex
X-PUBLISHED-TTL:PT1H
BEGIN:VTIMEZONE
TZID:UTC
BEGIN:STANDARD
TZOFFSETFROM:+0000
TZOFFSETTO:+0000
TZNAME:UTC
DTSTART:20250101T000000
END:STANDARD
END:VTIMEZONE
BEGIN:VEVENT
DTSTART;VALUE=DATE:20260622
DTEND;VALUE=DATE:20260624
DTSTAMP:20260422T014954
CREATED:20260218T221521Z
LAST-MODIFIED:20260218T221521Z
UID:4085-1782086400-1782259199@satog.org
SUMMARY:ENYGO Introduction to Robotic Surgery Course
DESCRIPTION:An exclusive introductory course for young fellows and trainees with no experience in robotic surgery but preferably with some knowledge or exposure to the system. \nThe Course programme features interactive theoretical sessions and dry lab exercises at the Intuitive Surgical Winnersh\, UK. \nThe course is organized by ESGO in collaboration with ENYGO.
URL:https://satog.org/event/enygo-introduction-to-robotic-surgery-course-3/
ATTACH;FMTTYPE=image/png:https://satog.org/wp-content/uploads/2026/02/enygo.png
END:VEVENT
BEGIN:VEVENT
DTSTART;TZID=UTC:20260624T143000
DTEND;TZID=UTC:20260624T153000
DTSTAMP:20260422T014954
CREATED:20251207T001058Z
LAST-MODIFIED:20260318T184018Z
UID:3755-1782311400-1782315000@satog.org
SUMMARY:Edukativna sreda: specializantski seminarji
DESCRIPTION:Nenapredovanje poroda \nIndukcija poroda
URL:https://satog.org/event/edukativna-sreda-specializantski-seminarji-11/
LOCATION:Seminar PB
CATEGORIES:Slovenski dogodek
ATTACH;FMTTYPE=image/png:https://satog.org/wp-content/uploads/2022/12/satog.png
END:VEVENT
BEGIN:VEVENT
DTSTART;VALUE=DATE:20261004
DTEND;VALUE=DATE:20261008
DTSTAMP:20260422T014954
CREATED:20260124T154825Z
LAST-MODIFIED:20260124T154843Z
UID:3896-1791072000-1791417599@satog.org
SUMMARY:ESGE Congress 2026
DESCRIPTION:Dear Colleagues and Friends\, \n\nWe would like to invite you to the 35ᵗʰ Annual Congress of the European Society for Gynaecological Endoscopy\, which will take place in Kraków\, Poland\, from 4ᵗʰ to 7ᵗʰ October 2026. The ESGE Annual Congresses bring clinicians\, scientists\, innovators and manufacturers from all over the world together and have become the leading global platform for the exchange of experience\, ideas and debate. With our growing membership and attendance at the Congresses\, the 35ᵗʰ Annual Congress promises to be another lively and exciting event. \nThe Congress will start again with the YEP Exchange Programme\, which will enable young gynaecologists from all parts of the world to visit gynaecological endoscopy centres in Poland\, during the week before the main Congress. The Pre-Congress Day on 4ᵗʰ October 2026 will give an excellent opportunity to discuss contemporary subjects with world-renowned experts and access hands-on training in suturing\, hysteroscopic\, laparoscopic and robotic surgery. \nThe Congress is taking place in the vibrant city of Kraków\, where ancient history intertwines with the lively fabric of a modern city\, with famous Slavic hospitality. Kraków\, the former capital of Poland\, is the second largest and one of the oldest cities in Poland\, dating back to the seventh century. Kraków has traditionally been one of the leading centres of Polish academic\, economic\, cultural and artistic life\, which makes it a suitable site for our Congress. With convenient travel links from all parts of the world\, it is an easy destination to reach. \nWe have no doubt that the Congress will be an excellent opportunity to meet colleagues\, view or demonstrate new technologies and techniques and make new friends. \nWe are excited to see you in Kraków in October 2026.
URL:https://satog.org/event/esge-congress-2026/
LOCATION:Krakow\, Poljska\, Krakow\, Poljska
ATTACH;FMTTYPE=image/jpeg:https://satog.org/wp-content/uploads/2026/01/ESGE.jpg
END:VEVENT
BEGIN:VEVENT
DTSTART;VALUE=DATE:20261110
DTEND;VALUE=DATE:20261111
DTSTAMP:20260422T014954
CREATED:20251219T091502Z
LAST-MODIFIED:20251219T091502Z
UID:3769-1794268800-1794355199@satog.org
SUMMARY:8.uroginekološka šola: zdrs medeničnih organov
DESCRIPTION:Save the date!
URL:https://satog.org/event/8-uroginekoloska-sola-zdrs-medenicnih-organov/
LOCATION:Medicinska fakulteta Maribor
CATEGORIES:Slovenski dogodek
ATTACH;FMTTYPE=image/jpeg:https://satog.org/wp-content/uploads/2025/11/Uroginekoloska-sola.jpg
END:VEVENT
BEGIN:VEVENT
DTSTART;TZID=UTC:20261123T080000
DTEND;TZID=UTC:20261124T180000
DTSTAMP:20260422T014954
CREATED:20260318T182021Z
LAST-MODIFIED:20260318T182021Z
UID:4135-1795420800-1795543200@satog.org
SUMMARY:International Congress on Infectious Diseases: From Pregnancy to the Newborn Period
DESCRIPTION:Improving Outcomes in Maternal and Neonatal Infections\n\nFrom epidemiology to complex clinical cases\, and from vaccination strategies to other preventive interventions\, infectious diseases in pregnancy and the neonatal period represent a rapidly evolving and highly relevant field of medicine.\n\nThis meeting will explore the epidemiology and burden of infectious diseases affecting pregnant individuals and newborns\, with a particular focus on the pathogenesis of fetal and neonatal injury. Participants will also address key aspects of prenatal and postnatal counseling\, an essential component of comprehensive maternal and neonatal care.\n\nThe program will feature a dynamic combination of state-of-the-art lectures\, expert-led clinical case discussions\, and opportunities for participants to present and share their own research data.\n\nWe invite you to join us to stay informed about the latest advances and to promote interdisciplinary collaboration in the prevention and management of infectious diseases in pregnancy and the neonatal period.
URL:https://satog.org/event/international-congress-on-infectious-diseases-from-pregnancy-to-the-newborn-period/
LOCATION:Rim
ATTACH;FMTTYPE=image/png:https://satog.org/wp-content/uploads/2026/03/infekcije.png
END:VEVENT
BEGIN:VEVENT
DTSTART;VALUE=DATE:20261203
DTEND;VALUE=DATE:20261206
DTSTAMP:20260422T014954
CREATED:20250916T142439Z
LAST-MODIFIED:20250916T142439Z
UID:3556-1796256000-1796515199@satog.org
SUMMARY:EUGA Annual Congress 2026
DESCRIPTION:
URL:https://satog.org/event/euga-annual-congress-2026/
ATTACH;FMTTYPE=image/jpeg:https://satog.org/wp-content/uploads/2025/09/EUGA-Athens.jpg
END:VEVENT
BEGIN:VEVENT
DTSTART;TZID=UTC:20261207T080000
DTEND;TZID=UTC:20261211T150000
DTSTAMP:20260422T014954
CREATED:20251214T191709Z
LAST-MODIFIED:20251214T191709Z
UID:3764-1796630400-1797001200@satog.org
SUMMARY:40-urni seminar PALIATIVNE OSKRBE za specializante kliničnih strok
DESCRIPTION:Bolnikov\, ki potrebujejo paliativno oskrbo\, je veliko. Osnovno znanje paliativne oskrbe bi zato morali pridobiti vsi zdravstveni delavci\, ki oskrbujejo bolnike s kronično neozdravljivo boleznijo. V Slovenskem združenju za paliativno in hospic oskrbo menimo\, da je ključni korak v razvoju paliativne oskrbe vključitev teh znanj v temeljne izobraževalne programe vseh članov paliativnega tima (zdravnik\, medicinska sestra\, psiholog\, socialni delavec\, farmacevt…). 40 urni seminar iz paliativne oskrbe za specializante predstavlja enega od pomembnejših korakov v zagotavljanju strokovne in kvalitetne paliativne oskrbe vsem\, ki jo potrebujejo. \n\n“To\, kar vemo\, je kapljica; to\, česar ne vemo\, je morje.” (Isaac Newton) \nSeminar je za specializante ginekologije in porodništva brezplačen. Zagotovljena so dodatna specializantska sredstva.\nDodatna specializantska sredstva\, namenjena za tečaj paliativne medicine (ZZS) \nVeč informacij\, program \nPRIJAVA: prijave še niso odprte. Potekajo preko portala ZZS.
URL:https://satog.org/event/40-urni-seminar-paliativne-oskrbe-za-specializante-klinicnih-strok-4/
LOCATION:Onkološki inštitut Ljubljana
CATEGORIES:Slovenski dogodek
ATTACH;FMTTYPE=image/png:https://satog.org/wp-content/uploads/2024/10/SZHPO.png
END:VEVENT
END:VCALENDAR