BEGIN:VCALENDAR
VERSION:2.0
PRODID:-//SATOG - ECPv6.15.20//NONSGML v1.0//EN
CALSCALE:GREGORIAN
METHOD:PUBLISH
X-WR-CALNAME:SATOG
X-ORIGINAL-URL:https://satog.org
X-WR-CALDESC:Dogodki za SATOG
REFRESH-INTERVAL;VALUE=DURATION:PT1H
X-Robots-Tag:noindex
X-PUBLISHED-TTL:PT1H
BEGIN:VTIMEZONE
TZID:UTC
BEGIN:STANDARD
TZOFFSETFROM:+0000
TZOFFSETTO:+0000
TZNAME:UTC
DTSTART:20230101T000000
END:STANDARD
END:VTIMEZONE
BEGIN:VEVENT
DTSTART;TZID=UTC:20240314T090000
DTEND;TZID=UTC:20240314T160000
DTSTAMP:20260422T221413
CREATED:20240122T201743Z
LAST-MODIFIED:20240313T131706Z
UID:1716-1710406800-1710432000@satog.org
SUMMARY:2. Mariborska delavnica osnovnih laparoskopskih veščin
DESCRIPTION:
URL:https://satog.org/event/2-mariborska-delavnica-osnovnih-laparoskopskih-vescin/
LOCATION:Velika predavalnica klinike za kirurgijo\, UKC Maribor\, Ljubljanska ulica 5\, 2000 Maribor
CATEGORIES:Slovenski dogodek
ATTACH;FMTTYPE=image/jpeg:https://satog.org/wp-content/uploads/2023/09/General-Laparoscopic-Surgery.jpg
END:VEVENT
BEGIN:VEVENT
DTSTART;TZID=UTC:20240313T083000
DTEND;TZID=UTC:20240313T150000
DTSTAMP:20260422T221413
CREATED:20240301T203730Z
LAST-MODIFIED:20240313T131657Z
UID:2119-1710318600-1710342000@satog.org
SUMMARY:10. šola reproduktivnega zdravja žensk 2024
DESCRIPTION:Spoštovani! \nV Slovenskem menopavznem društvu in Združenju za ambulantno ginekologijo skrbimo za ohranjanje in nadgradnjo strokovnega znanja\, zato tudi letos nadaljujemo s tradicijo prirejanja izobraževanj. \n\nLetošnja jubilejna 10. šola reproduktivnega zdravja žensk 2024 bo ponovno organizirana v štirih terminih\, z namenom\, da si lahko vsak udeleženec izbere datum\, ki mu osebno najbolj ustreza. Ker pa smo nekoliko že spoznali zakonitosti Covid -19\, smo se odločili\, da tudi letos ponudimo kombiniran model šole. V obdobjih\, ko predvidoma ni vrhov okužb\, bomo izvedli termine šole v živo\, ostale termine pa spletno. \nSpomladanska termina sta: sreda\, 13. marca (spletno) in torek\, 23. aprila 2024 (v živo\, na Zdravniški zbornici Slovenije v Ljubljani). \n\n\nPrijave bomo sprejemali: \n\nza 1. termin šole do vključno 6. marca\,\nza 2. termin šole do vključno 16. aprila.\n\nPo teh datumih prijave ne bodo več možne. \nKotizacija znaša 90 Eur (DDV vključen)\, upokojenci in specializanti so oproščeni. Prosimo\, da rubriko o plačniku skrbno izpolnite in kotizacijo poravnate že pred začetkom izobraževanja. \nZdravnikom\, farmacevtom in medicinskim sestram / babicam / zdravstvenikom bodo dodeljene kreditne točke. \n\nV primeru težav s prijavo oz. ostalih vprašanj\, nam pišite na infoginek@gmail.com. Kot zadevo navedite “Prijava – 10. šola – 2024”. Navedite tudi ime in priimek\, ter elektronski naslov za prijavo. \nVeselimo se vaše udeležbe! \n  \nProgram: https://docs.google.com/document/d/1Ll0Em2I4dwrzcSeyM3jPkJTvG09o8EOiltB2JPgkZ6A/edit#heading=h.an5xqus3pitg \nPrijava:\nhttps://docs.google.com/forms/d/e/1FAIpQLSccLxiHktyKMzut4UmKM6_RWlQTVKd6Vaatnle5G7q_27bsKQ/viewform
URL:https://satog.org/event/10-sola-reproduktivnega-zdravja-zensk-2024/
LOCATION:Online
CATEGORIES:Slovenski dogodek
ATTACH;FMTTYPE=image/jpeg:https://satog.org/wp-content/uploads/2024/03/SRZZ.jpg
END:VEVENT
BEGIN:VEVENT
DTSTART;VALUE=DATE:20240309
DTEND;VALUE=DATE:20240310
DTSTAMP:20260422T221413
CREATED:20240217T101046Z
LAST-MODIFIED:20240313T131604Z
UID:1962-1709942400-1710028799@satog.org
SUMMARY:Malo mešano – Moški so z Venere\, ženske so z Marsa
DESCRIPTION:Tokrat smo naš po raznolikosti tem najbolj pester kongres Malo mešano postavili na začetek kongresne sezone. Čeprav šef kuhinje ostajam isti (za tiste brez predznanja\, tradicionalen naslov tega skoraj vsakoletnega kongresa je Malo mešano na način šefa kuhinje)\, smo tokrat kulinarične teme zamenjali s seksualnimi. Se pravi\, veliko bo govora o zdravstvenih težav obeh spolov in zaradi mene\, lahko tudi tistih vmes in izven tako imenovanega cis-spolnega razvrščanja. Kar pomeni\, da bodo predavatelji predstavili najpogostejše ginekološke in urološke težave od tistih pri otrocih in mladostnikih\, do onih\, ki nam popestrijo zrela leta. Od tu tudi podnaslov kongresa. Kar se vlog planetov tiče\, smo se pa malo poigrali\, pa razumite to kot naš prispevek k feminizmu\, ali v razmislek o vlogi hormonskih motilcev v našem okolju. \nKer v letošnjem letu ne načrtujemo posebnega nevrološkega kongresa\, vam bomo nekaj tem s tega področja\, tudi tistih\, silno revolucionarnih\, ponudili tokrat. Malo več prostora smo namenili tudi novostim na področju prepoznave\, predvsem pa zdravljenja nekaterih drugih redkih bolezni. In še malo alergijam\, atopijam – kruhu našem vsakdanjem. \nDa si najbolj impozanten parni organ ženskega telesa\, dojka\, zasluži podroben pregled tako s funkcionalne kot z zdravstvene in estetske plati\, se razume. Že kot dojenčki jih imamo radi. \nČisto za konec pa tema\, s katero se žal (pre)pogosto srečamo\, pa se zdravniki ob njej ne znajdemo najbolje. Na vašo željo\, zelo praktično uporabna navodila\, kaj moramo zdravniki storiti (tudi na kaj biti pozorni pri pregledu\, dokumentaciji) ob sumu na spolno zlorabo. \nPridružite se nam!
URL:https://satog.org/event/malo-mesano-moski-so-z-venere-zenske-so-z-marsa/
LOCATION:Kristalna palača\, BTC\, Ljubljana
CATEGORIES:Slovenski dogodek
ATTACH;FMTTYPE=image/jpeg:https://satog.org/wp-content/uploads/2024/02/malo-mesano.jpg
END:VEVENT
BEGIN:VEVENT
DTSTART;TZID=UTC:20240307T190000
DTEND;TZID=UTC:20240307T200000
DTSTAMP:20260422T221413
CREATED:20240221T153145Z
LAST-MODIFIED:20240221T153145Z
UID:2054-1709838000-1709841600@satog.org
SUMMARY:See & Treat Hysteroscopy
DESCRIPTION:
URL:https://satog.org/event/see-treat-hysteroscopy/
LOCATION:Webinar
ATTACH;FMTTYPE=image/jpeg:https://satog.org/wp-content/uploads/2024/02/SeeTreat-Hysteroscopy.jpg
END:VEVENT
BEGIN:VEVENT
DTSTART;VALUE=DATE:20240307
DTEND;VALUE=DATE:20240311
DTSTAMP:20260422T221413
CREATED:20240210T144753Z
LAST-MODIFIED:20240210T144753Z
UID:1884-1709769600-1710115199@satog.org
SUMMARY:ESGO 2024 Annual Congress on Gynaecological Oncology
DESCRIPTION:ESGO 2024 will be a celebration of discovery and late-breaking research\, new guidelines\, practical demonstrations\, and exclusive live surgery transmissions from hospitals you don’t want to miss. \nThe 25th Congress of the European Society of Gynaecological Oncology will bring together over 2\,000 attendees from around the world for a four-day gathering of learning\, networking\, and sharing the latest developments in the field of Gynaecological Cancers —all with the goal of enhancing your knowledge\, accelerating your skills and advancing the field. \nInterested in staying on top of the most recent advances in the field? \nThen the ESGO congress is a can’t-miss event\, held from March 7-10\, 2024\, in Barcelona\, Spain.
URL:https://satog.org/event/esgo-2024-annual-congress-on-gynaecological-oncology/
LOCATION:Barcelona\, Španija
ATTACH;FMTTYPE=image/png:https://satog.org/wp-content/uploads/2022/12/download-1.png
END:VEVENT
BEGIN:VEVENT
DTSTART;VALUE=DATE:20240307
DTEND;VALUE=DATE:20240310
DTSTAMP:20260422T221413
CREATED:20240210T142810Z
LAST-MODIFIED:20240210T142810Z
UID:1870-1709769600-1710028799@satog.org
SUMMARY:Perinatal Science International: The Global Meeting for Perinatal Research
DESCRIPTION:The purpose of this meeting is to fill the gap in the global scene as there is no focused forum to discuss perinatal research \nWe welcome all multi professional groups\, which are essential for impactful research\, such as: \n\n\n\n\n\nPerinatal Researchers\nMethodologists\nBasic Scientists\nQualitatively Researchers\nSocial Media Experts\nFamily Engagement Experts\n\n\n\n\n\n\nThe purpose of the meeting is to provide an international forum to discuss perinatal research. \n\nA forum for discussing new research\nA forum for engaging with a senior and multi professional audience\nA forum for networking\, brainstorming\, and bouncing new ideas
URL:https://satog.org/event/perinatal-science-international-the-global-meeting-for-perinatal-research/
LOCATION:Benetke\, Italija
ATTACH;FMTTYPE=image/jpeg:https://satog.org/wp-content/uploads/2024/02/EAoPM.jpg
END:VEVENT
BEGIN:VEVENT
DTSTART;TZID=UTC:20240306T140000
DTEND;TZID=UTC:20240306T153000
DTSTAMP:20260422T221413
CREATED:20240210T105104Z
LAST-MODIFIED:20240210T105104Z
UID:1842-1709733600-1709739000@satog.org
SUMMARY:Specializantski seminarji
DESCRIPTION:Stopnje nujnosti carskih rezov – Maja Pavlica\, metorica: dr.Pečlin \nKarcinom vulve – Tina Mežner\, mentor: dr. Janša
URL:https://satog.org/event/specializantski-seminarji-20/
LOCATION:Seminar PB
ATTACH;FMTTYPE=image/jpeg:https://satog.org/wp-content/uploads/2022/12/picture.jpeg
END:VEVENT
BEGIN:VEVENT
DTSTART;TZID=UTC:20240306T000000
DTEND;TZID=UTC:20240306T133000
DTSTAMP:20260422T221413
CREATED:20240210T110136Z
LAST-MODIFIED:20240221T155141Z
UID:1845-1709683200-1709731800@satog.org
SUMMARY:Using AI for Ultrasound - trainee webinar
DESCRIPTION:ISUOG presents an informative series of webinars for trainees\, created by the Education Courses committee and the Next Generation committee. \nEach webinar will Chaired by Dr. Srdjan Saso\, Chairman of the NGen Committee and will feature contributions by leading ultrasound experts. \n\n\nAt each webinar\, attendees will have the opportunity to to actively participate in panel discussions and submit questions and comments to Dr Saso\, along with other NGen committee members\, as well as representatives from The World Association of Trainees in Obstetrics & Gynecology (WATOG) and The European Network of Trainees in Obstetrics and Gynaecology (ENTOG).
URL:https://satog.org/event/using-ai-for-ultrasound-trainee-webinar/
LOCATION:Online
ATTACH;FMTTYPE=image/jpeg:https://satog.org/wp-content/uploads/2024/02/ISUOG-AI-for-ultrasound.jpg
END:VEVENT
BEGIN:VEVENT
DTSTART;VALUE=DATE:20240305
DTEND;VALUE=DATE:20240316
DTSTAMP:20260422T221413
CREATED:20240210T151105Z
LAST-MODIFIED:20240217T101652Z
UID:1901-1709596800-1710547199@satog.org
SUMMARY:Specializantske simulacijske delavnice
DESCRIPTION:SIMULACIJSKE DELAVNICE ZA SPECIALIZANTE GINEKOLOGIJE IN PORODNIŠTVAObvezen del izobraževanja za specializante ginekologije in porodništva. \nOrganizatorji: Ginekološka klinika UKC LJ  – Klinični oddelek za perinatologijo (KOP) in Klinični oddelek\nza ginekologijo (KOG) in Sekcija specializantov ginekologije in porodništva (SATOG)\nLokacija: Medicinski simulacijski center UKC LJ (MSC)\, prostori v stavbi stare babiške šole\,\npredavalnica 2 v glavni stavbi UKC LJ. \nOrganizacijski in strokovni odbor:\nPredsednici: Katja Čehovin in Lili Steblovnik\nOdbor: Iza Predanič Drobne\, Veronika Vogrin \nURNIK:\nTOREK 5.3.2024 – Obporodne poškodbe perineja (dve zaporedni delavnici)\nSREDA 6.3.2024 – Porodniške delavnice (vakuum\, medenična vstava in UZ v nosečnosti)\nPONEDELJEK 11.3. 2024 – Delavnica tehnik histerektomij\nČETRTEK 14.3.2024 – Osnove laparoskopije\nPETEK 15.3.2024 – Osnovne kirurških tehnik
URL:https://satog.org/event/specializantske-simulacijske-delavnice/
ATTACH;FMTTYPE=image/png:https://satog.org/wp-content/uploads/2022/12/satog.png
END:VEVENT
BEGIN:VEVENT
DTSTART;VALUE=DATE:20240304
DTEND;VALUE=DATE:20240305
DTSTAMP:20260422T221413
CREATED:20240210T160444Z
LAST-MODIFIED:20240212T082818Z
UID:1920-1709510400-1709596799@satog.org
SUMMARY:HPV Awareness Day
DESCRIPTION:
URL:https://satog.org/event/hpv-awareness-day/
ATTACH;FMTTYPE=image/jpeg:https://satog.org/wp-content/uploads/2024/02/HPV_awareness.jpg
END:VEVENT
BEGIN:VEVENT
DTSTART;VALUE=DATE:20240303
DTEND;VALUE=DATE:20240316
DTSTAMP:20260422T221413
CREATED:20240303T130647Z
LAST-MODIFIED:20240303T130921Z
UID:2125-1709424000-1710547199@satog.org
SUMMARY:Aktualno: Razpis za sofinanciranje GESEA4EU
DESCRIPTION:GESEA4EU is a two-year project built on GESEA which is an innovative cross-border project bringing together 16 partners from 8 European countries\, co-funded by the European Union and EBCOG.\n\nWe are delighted to share that @ebcog_eu will be supporting 10 interested senior O&G trainees from EBCOG member countries to participate in the GESEA4EU Basic Laparoscopy & Hysteroscopy course.\n-EBCOG will assist participants in obtaining a position on a GESEA4EU course & provide a travel/ accommodation bursary of €250 euros!\n–Selection process is managed by EBCOG and ENTOG Executives\n\n\n\n CRITERIA:\n-Applicants must be current senior Obstetrics and Gynaecology trainees (≥ 4th year of training) from an EBCOG member country\n\n\nAPPLICATION PROCESS:\n-Send a motivation cover letter (max 1 page)\, a short curriculum vitae (max two pages) expressing interest in minimal invasive surgery\nDeadline: 15th of March 2024\n executive@entog.eu.
URL:https://satog.org/event/aktualno-razpis-za-sofinanciranje-gesea4eu/
ATTACH;FMTTYPE=image/png:https://satog.org/wp-content/uploads/2023/09/cropped-Entog_logo_CMYK-e1521398677414.png
END:VEVENT
BEGIN:VEVENT
DTSTART;TZID=UTC:20240302T120000
DTEND;TZID=UTC:20240302T130000
DTSTAMP:20260422T221413
CREATED:20240219T205106Z
LAST-MODIFIED:20240219T205511Z
UID:2042-1709380800-1709384400@satog.org
SUMMARY:Pelvic Floor Imaging SIG Session
DESCRIPTION: AI in Pelvic Floor Imaging: Present and Future\nArtificial Intelligence (AI) is a commonly discussed issue in the general media. Increasingly\, ultrasound practitioners are encountering it as software options on new systems. We will describe what AI in the form of automated image analysis currently delivers in Pelvic Floor Imaging\, separating hype from reality. We’ll also try to explore what clinicians can expect in the future. \nTo find answers and raise questions\, join our session. \nRegistracija: https://us02web.zoom.us/meeting/register/tZIqcO-vqzwrE9LJDJJ3cZbBhVzQMY0I7E6l#/registration
URL:https://satog.org/event/pelvic-floor-imaging-sig-session/
LOCATION:Webinar
ATTACH;FMTTYPE=image/jpeg:https://satog.org/wp-content/uploads/2024/02/IUGA-webinar.jpg
END:VEVENT
BEGIN:VEVENT
DTSTART;VALUE=DATE:20240301
DTEND;VALUE=DATE:20240303
DTSTAMP:20260422T221413
CREATED:20240210T112634Z
LAST-MODIFIED:20240210T112634Z
UID:1854-1709251200-1709423999@satog.org
SUMMARY:2D & 3D FETAL ULTRASOUND: New Horizons
DESCRIPTION:Join us for the LIVE Course from Prof. Chaoui and Dr. Benoit dedicated to the 2D and 3D Fetal Ultrasound. Dates – 1st and 2d of March\, 2024. Location – Warsaw\, Poland. Registration is now open! \nThe scientific program of this new Course from world-known “ultrasound titans” is divided into two days. \nOn the first day the speakers will focus on the practical „How to do 3D“\, including how to acquire a volume dataset\, then navigate and render and manipulate the volume. Live demonstrations of the ultrasound machine complete the theoretical part. \nThe second day will show the new horizons of fetal ultrasound today integrating high-resolution 2D\, color Doppler\, and 3D in demonstrating normal anatomy and common and rare anomalies. The content will include the dedicated examination of the brain from 7 to 40 weeks including normal and abnormal findings. The examination of the gastrointestinal and genitourinary tract will be discussed and cases demonstrated in 2D and 3D. Normal anatomy and anomalies of the fetal heart and the skeletal system will be presented and cases demonstrated on the ultrasound system. \nThe combination of different hints may lead to the suspicion of syndromic conditions\, which are illustrated with common and rare syndromes. In addition\, it is time to discuss the scanning techniques today\, the role of guidelines\, human mistakes\, and the potential role of artificial intelligence in prenatal ultrasound to be better prepared for its use in the future.
URL:https://satog.org/event/2d-3d-fetal-ultrasound-new-horizons/
LOCATION:Warsaw Plaza Hotel\, Poljska
ATTACH;FMTTYPE=image/jpeg:https://satog.org/wp-content/uploads/2024/02/ISUOG.jpg
END:VEVENT
BEGIN:VEVENT
DTSTART;VALUE=DATE:20240224
DTEND;VALUE=DATE:20240225
DTSTAMP:20260422T221413
CREATED:20240210T112902Z
LAST-MODIFIED:20240210T112902Z
UID:1857-1708732800-1708819199@satog.org
SUMMARY:Emergency gynecology – how does ultrasound help in patient management?
DESCRIPTION:Join us on Saturday 24th February 2024 for our first hybrid education course on ‘Emergency gynecology – how does ultrasound help in patient management’ led by A/Prof. Ligita Jokubkiene and Prof. Davor Jurkovic. Attend virtually or in-person in London! Attend on-site to have an exclusive opportunity to network with your fellow peers and the esteemed invited faculty! \nDelegates attending in-person at the ISUOG office in London\, UK will have an exclusive opportunity to network after the Education program has finished. Spaces to attend in-person are limited\, on a first-come first-served basis. \nLearning Objectives: \n\nGain expertise in ultrasound diagnosis of adnexal torsion\nGain expertise in ultrasound diagnosis and management of inflammatory disease in the pelvis and the bowel\nGain and improve knowledge of ultrasound role in acute on chronic pelvic pain in endometriosis\nImprove knowledge on ultrasound diagnostics in case of heavy vaginal bleeding in pregnant women\nGain knowledge on the role of ultrasound in case of massive peritoneum in pregnant and non-pregnant women\nGain knowledge on the role of interventional radiology in acute gynecological patients\nGain knowledge on the role of ultrasound in postoperative complications
URL:https://satog.org/event/emergency-gynecology-how-does-ultrasound-help-in-patient-management/
LOCATION:Online
ATTACH;FMTTYPE=image/jpeg:https://satog.org/wp-content/uploads/2024/02/ISUOG.jpg
END:VEVENT
BEGIN:VEVENT
DTSTART;TZID=UTC:20240222T180000
DTEND;TZID=UTC:20240222T200000
DTSTAMP:20260422T221413
CREATED:20240210T151543Z
LAST-MODIFIED:20240210T151543Z
UID:1903-1708624800-1708632000@satog.org
SUMMARY:ZOOM Journal Club
DESCRIPTION:Join us for February IJGC Journal Club!\nPrognostic value of isolated tumor cells in sentinel lymph nodes in low risk endometrial cancer: results from an international multi-institutional study by Giuseppe Cucinella\, Andrea Mariani & Gretchen Glaser
URL:https://satog.org/event/zoom-journal-club/
LOCATION:Online
ATTACH;FMTTYPE=image/jpeg:https://satog.org/wp-content/uploads/2024/02/zoom-journal-club.jpg
END:VEVENT
BEGIN:VEVENT
DTSTART;TZID=UTC:20240222T150000
DTEND;TZID=UTC:20240222T180000
DTSTAMP:20260422T221413
CREATED:20240221T154431Z
LAST-MODIFIED:20240221T154431Z
UID:2060-1708614000-1708624800@satog.org
SUMMARY:WHO Medical Abortion Course
DESCRIPTION:The UN’s Special Programme on Human Reproduction (HRP) together with WHO\, has created an online self-paced Medical Abortion training programme. The aim of the course is to equip health care providers with the necessary knowledge\, skills and attitudes to provide evidence-based\, quality medical abortion care based on WHO guidelines. \nThose who successfully complete each module will earn a WHO Academy Award of Completion. \nJoin us to learn more about the course and hear firsthand experiences from those who have completed the training.
URL:https://satog.org/event/who-medical-abortion-course/
LOCATION:Webinar
ATTACH;FMTTYPE=image/jpeg:https://satog.org/wp-content/uploads/2024/02/medical-abortion-course.jpg
END:VEVENT
BEGIN:VEVENT
DTSTART;TZID=UTC:20240221T190000
DTEND;TZID=UTC:20240221T190000
DTSTAMP:20260422T221413
CREATED:20240212T090228Z
LAST-MODIFIED:20240212T090228Z
UID:1947-1708542000-1708542000@satog.org
SUMMARY:1st EFC Interactive Learning Webinar for Colposcopists 2024
DESCRIPTION:Colposcopic procedures – essential skills state of the art 2024 in collaboration with the German Working Group for Cervical Pathology and Colposcopy (AG-CPC)
URL:https://satog.org/event/1st-efc-interactive-learning-webinar-for-colposcopists-2024/
LOCATION:Online
ATTACH;FMTTYPE=image/png:https://satog.org/wp-content/uploads/2024/02/efc-web-1.png
END:VEVENT
BEGIN:VEVENT
DTSTART;VALUE=DATE:20240219
DTEND;VALUE=DATE:20240302
DTSTAMP:20260422T221413
CREATED:20240219T090124Z
LAST-MODIFIED:20240219T090124Z
UID:2006-1708300800-1709337599@satog.org
SUMMARY:Aktualno: Prijavi se na mednarodno ENTOG izmenjavo!
DESCRIPTION:ENTOG izmenjave se tradicionalno udeležita po dva člana iz vsake države članice. Izmenjavi sledita ENTOG skupščina ter Scientific Meeting\, letos na temo “Innovation in Gynecology and Obstetrics”. Podrobnejše informacije najdete v prejetem elektronskem sporočilu Satog ekipe.\n\nVse lepo vabimo\, da se na izmenjavo prijavite! \n\nIzmenjava poteka med 09.-13.9.2024.\n\nOb prijavi navedite IME in PRIIMEK\, LETNIK SPECIALIZACIJE\, ter priložite kratko MOTIVACIJSKO PISMO z opisom\, zakaj si želite na ENTOG izmenjavo.\n\nPrijave pošljite na websatog@gmail.com. Rok za prijavo je 1. marec 2024.\n\n\n \nTudi tisti\, ki se izmenjave ne boste udeležili\, se lahko prijavite na Scientific Meeting in večerjo preko obrazca: bit.ly/ENTOGPRG (rok za prijavo je 15. maj 2024).
URL:https://satog.org/event/aktualno-prijavi-se-na-mednarodno-entog-izmenjavo/
ATTACH;FMTTYPE=image/png:https://satog.org/wp-content/uploads/2024/02/entog-exchange.png
END:VEVENT
BEGIN:VEVENT
DTSTART;VALUE=DATE:20240217
DTEND;VALUE=DATE:20240301
DTSTAMP:20260422T221413
CREATED:20240217T110649Z
LAST-MODIFIED:20240217T143312Z
UID:1975-1708128000-1709251199@satog.org
SUMMARY:ISUOG BASIC TRAINING ONLINE PROGRAM
DESCRIPTION:NATEČAJ oziroma “NE ZAMUDI”: \nDo 29.2.2024 oddaj video\, poster ali sliko na temo “Why Ultrasound in O&G is a hot topic” ter se poteguj za brezplačno registracijo na ISUOG Basic Training Online Course. \nPrispevek pošlji na: executive@entog.eu
URL:https://satog.org/event/isuog-basic-training-online-program/
ATTACH;FMTTYPE=image/png:https://satog.org/wp-content/uploads/2024/02/ISUOG-natecaj.png
END:VEVENT
BEGIN:VEVENT
DTSTART;TZID=UTC:20240215T173000
DTEND;TZID=UTC:20240215T190000
DTSTAMP:20260422T221413
CREATED:20240210T150739Z
LAST-MODIFIED:20240210T150739Z
UID:1898-1708018200-1708023600@satog.org
SUMMARY:ENYGO Surgical Mentorship: Surgical Technique of Sentinel Lymph Node Dissection
DESCRIPTION:
URL:https://satog.org/event/enygo-surgical-mentorship-surgical-technique-of-sentinel-lymph-node-dissection/
LOCATION:Online
ATTACH;FMTTYPE=image/jpeg:https://satog.org/wp-content/uploads/2024/02/enygo-webinar.jpg
END:VEVENT
BEGIN:VEVENT
DTSTART;TZID=UTC:20240214T140000
DTEND;TZID=UTC:20240214T173000
DTSTAMP:20260422T221413
CREATED:20240210T103614Z
LAST-MODIFIED:20240212T083907Z
UID:1837-1707919200-1707931800@satog.org
SUMMARY:CTG diskusija
DESCRIPTION:
URL:https://satog.org/event/ctg-diskusija-5/
LOCATION:Seminar PB
ATTACH;FMTTYPE=image/jpeg:https://satog.org/wp-content/uploads/2022/12/picture.jpeg
END:VEVENT
BEGIN:VEVENT
DTSTART;TZID=UTC:20240213T140000
DTEND;TZID=UTC:20240213T150000
DTSTAMP:20260422T221413
CREATED:20240210T154204Z
LAST-MODIFIED:20240210T154204Z
UID:1910-1707832800-1707836400@satog.org
SUMMARY:Webinar: Shoulder dystocia: Risk factors and prevention
DESCRIPTION:Shoulder dystocia is a rare\, unpredictable\, and almost unavoidable obstetric emergency. It is a sudden cessation of labor after the birth of the head\, delaying the subsequent birth of the trunk. \nIn her presentation\, Peggy will present the current evidence and recommendations for best practices: \n• What factors have been recognized to influence the development of dystocia?\n• What factors have been proven to have no influence?
URL:https://satog.org/event/webinar-shoulder-dystocia-risk-factors-and-prevention/
LOCATION:Online
ATTACH;FMTTYPE=image/jpeg:https://satog.org/wp-content/uploads/2024/02/gynzone-logo.jpg
END:VEVENT
BEGIN:VEVENT
DTSTART;TZID=UTC:20240208T080000
DTEND;TZID=UTC:20240210T170000
DTSTAMP:20260422T221413
CREATED:20231124T151645Z
LAST-MODIFIED:20231126T201825Z
UID:1553-1707379200-1707584400@satog.org
SUMMARY:ESSM 2024
DESCRIPTION:
URL:https://satog.org/event/essm-2024/
ATTACH;FMTTYPE=image/png:https://satog.org/wp-content/uploads/2023/11/Screen-Shot-2023-11-24-at-16.14.12.png
END:VEVENT
BEGIN:VEVENT
DTSTART;TZID=UTC:20240207T023000
DTEND;TZID=UTC:20240207T153000
DTSTAMP:20260422T221413
CREATED:20231124T152322Z
LAST-MODIFIED:20240130T181016Z
UID:1560-1707273000-1707319800@satog.org
SUMMARY:Specializantski seminarji
DESCRIPTION:
URL:https://satog.org/event/specializantski-seminarji-17/
LOCATION:Seminar PB
ATTACH;FMTTYPE=image/jpeg:https://satog.org/wp-content/uploads/2022/12/picture.jpeg
END:VEVENT
BEGIN:VEVENT
DTSTART;TZID=UTC:20240202T080000
DTEND;TZID=UTC:20240202T153000
DTSTAMP:20260422T221413
CREATED:20240115T104029Z
LAST-MODIFIED:20240126T123836Z
UID:1648-1706860800-1706887800@satog.org
SUMMARY:Rak endometrija – nova FIGO klasifikacija in ostale novosti
DESCRIPTION:
URL:https://satog.org/event/rak-endometrija-nova-figo-klasifikacija-in-ostale-novosti/
LOCATION:predavalnica Ginekološke klinike\, Šlajmerjeva 3\, Ljubljana
ATTACH;FMTTYPE=image/webp:https://satog.org/wp-content/uploads/2024/01/endometrial.cancer.webp
END:VEVENT
BEGIN:VEVENT
DTSTART;TZID=UTC:20240131T143000
DTEND;TZID=UTC:20240131T153000
DTSTAMP:20260422T221413
CREATED:20240129T085020Z
LAST-MODIFIED:20240129T085020Z
UID:1732-1706711400-1706715000@satog.org
SUMMARY:Interaktivna delavnica - edukativna sreda
DESCRIPTION:Vstavitev LEVOSERT – intrauterinega dostavnega sistema\, v sodelovanju z Gedeon Richter
URL:https://satog.org/event/interaktivna-delavnica-edukativna-sreda/
LOCATION:Seminar PB
ATTACH;FMTTYPE=image/jpeg:https://satog.org/wp-content/uploads/2024/01/fullsizeoutput_f8.jpeg
END:VEVENT
BEGIN:VEVENT
DTSTART;TZID=UTC:20240131T084000
DTEND;TZID=UTC:20240131T140000
DTSTAMP:20260422T221413
CREATED:20240115T163046Z
LAST-MODIFIED:20240115T163239Z
UID:1671-1706690400-1706709600@satog.org
SUMMARY:2. šola kontracepcije 2024
DESCRIPTION:
URL:https://satog.org/event/2-sola-kontracepcije-2024/
LOCATION:Online
ATTACH;FMTTYPE=image/jpeg:https://satog.org/wp-content/uploads/2024/01/contraceptive-deserts-1554391425.jpg
END:VEVENT
BEGIN:VEVENT
DTSTART;TZID=UTC:20240129T153000
DTEND;TZID=UTC:20240129T183000
DTSTAMP:20260422T221413
CREATED:20240122T201400Z
LAST-MODIFIED:20240122T201400Z
UID:1714-1706542200-1706553000@satog.org
SUMMARY:Fotona - rokovanje z Er:Yag laserjem
DESCRIPTION:
URL:https://satog.org/event/fotona-rokovanje-z-eryag-laserjem/
LOCATION:predavalnica Ginekološke klinike\, Šlajmerjeva 3\, Ljubljana
ATTACH;FMTTYPE=image/png:https://satog.org/wp-content/uploads/2023/10/Screen-Shot-2023-10-10-at-21.33.29.png
END:VEVENT
BEGIN:VEVENT
DTSTART;TZID=UTC:20240125T200000
DTEND;TZID=UTC:20240125T213000
DTSTAMP:20260422T221413
CREATED:20240122T201047Z
LAST-MODIFIED:20240122T201057Z
UID:1710-1706212800-1706218200@satog.org
SUMMARY:Izzivi pri obravnavi raka na materničnem vratu
DESCRIPTION:
URL:https://satog.org/event/izivi-pri-obravnavi-raka-na-maternicnem-vratu/
LOCATION:Online
ATTACH;FMTTYPE=image/jpeg:https://satog.org/wp-content/uploads/2024/01/01-03-2021-Cervical-Cancer-Awareness-Month-1-min-scaled-1.jpeg
END:VEVENT
BEGIN:VEVENT
DTSTART;TZID=UTC:20240124T143000
DTEND;TZID=UTC:20240124T153000
DTSTAMP:20260422T221413
CREATED:20240122T214817Z
LAST-MODIFIED:20240122T214817Z
UID:1723-1706106600-1706110200@satog.org
SUMMARY:CTG diskusija
DESCRIPTION:
URL:https://satog.org/event/ctg-diskusija-4/
LOCATION:Seminar PB
END:VEVENT
END:VCALENDAR