BEGIN:VCALENDAR
VERSION:2.0
PRODID:-//SATOG - ECPv6.15.20//NONSGML v1.0//EN
CALSCALE:GREGORIAN
METHOD:PUBLISH
X-WR-CALNAME:SATOG
X-ORIGINAL-URL:https://satog.org
X-WR-CALDESC:Dogodki za SATOG
REFRESH-INTERVAL;VALUE=DURATION:PT1H
X-Robots-Tag:noindex
X-PUBLISHED-TTL:PT1H
BEGIN:VTIMEZONE
TZID:UTC
BEGIN:STANDARD
TZOFFSETFROM:+0000
TZOFFSETTO:+0000
TZNAME:UTC
DTSTART:20220101T000000
END:STANDARD
END:VTIMEZONE
BEGIN:VEVENT
DTSTART;TZID=UTC:20240213T140000
DTEND;TZID=UTC:20240213T150000
DTSTAMP:20260423T001856
CREATED:20240210T154204Z
LAST-MODIFIED:20240210T154204Z
UID:1910-1707832800-1707836400@satog.org
SUMMARY:Webinar: Shoulder dystocia: Risk factors and prevention
DESCRIPTION:Shoulder dystocia is a rare\, unpredictable\, and almost unavoidable obstetric emergency. It is a sudden cessation of labor after the birth of the head\, delaying the subsequent birth of the trunk. \nIn her presentation\, Peggy will present the current evidence and recommendations for best practices: \n• What factors have been recognized to influence the development of dystocia?\n• What factors have been proven to have no influence?
URL:https://satog.org/event/webinar-shoulder-dystocia-risk-factors-and-prevention/
LOCATION:Online
ATTACH;FMTTYPE=image/jpeg:https://satog.org/wp-content/uploads/2024/02/gynzone-logo.jpg
END:VEVENT
BEGIN:VEVENT
DTSTART;TZID=UTC:20240208T080000
DTEND;TZID=UTC:20240210T170000
DTSTAMP:20260423T001856
CREATED:20231124T151645Z
LAST-MODIFIED:20231126T201825Z
UID:1553-1707379200-1707584400@satog.org
SUMMARY:ESSM 2024
DESCRIPTION:
URL:https://satog.org/event/essm-2024/
ATTACH;FMTTYPE=image/png:https://satog.org/wp-content/uploads/2023/11/Screen-Shot-2023-11-24-at-16.14.12.png
END:VEVENT
BEGIN:VEVENT
DTSTART;TZID=UTC:20240207T023000
DTEND;TZID=UTC:20240207T153000
DTSTAMP:20260423T001856
CREATED:20231124T152322Z
LAST-MODIFIED:20240130T181016Z
UID:1560-1707273000-1707319800@satog.org
SUMMARY:Specializantski seminarji
DESCRIPTION:
URL:https://satog.org/event/specializantski-seminarji-17/
LOCATION:Seminar PB
ATTACH;FMTTYPE=image/jpeg:https://satog.org/wp-content/uploads/2022/12/picture.jpeg
END:VEVENT
BEGIN:VEVENT
DTSTART;TZID=UTC:20240202T080000
DTEND;TZID=UTC:20240202T153000
DTSTAMP:20260423T001856
CREATED:20240115T104029Z
LAST-MODIFIED:20240126T123836Z
UID:1648-1706860800-1706887800@satog.org
SUMMARY:Rak endometrija – nova FIGO klasifikacija in ostale novosti
DESCRIPTION:
URL:https://satog.org/event/rak-endometrija-nova-figo-klasifikacija-in-ostale-novosti/
LOCATION:predavalnica Ginekološke klinike\, Šlajmerjeva 3\, Ljubljana
ATTACH;FMTTYPE=image/webp:https://satog.org/wp-content/uploads/2024/01/endometrial.cancer.webp
END:VEVENT
BEGIN:VEVENT
DTSTART;TZID=UTC:20240131T143000
DTEND;TZID=UTC:20240131T153000
DTSTAMP:20260423T001856
CREATED:20240129T085020Z
LAST-MODIFIED:20240129T085020Z
UID:1732-1706711400-1706715000@satog.org
SUMMARY:Interaktivna delavnica - edukativna sreda
DESCRIPTION:Vstavitev LEVOSERT – intrauterinega dostavnega sistema\, v sodelovanju z Gedeon Richter
URL:https://satog.org/event/interaktivna-delavnica-edukativna-sreda/
LOCATION:Seminar PB
ATTACH;FMTTYPE=image/jpeg:https://satog.org/wp-content/uploads/2024/01/fullsizeoutput_f8.jpeg
END:VEVENT
BEGIN:VEVENT
DTSTART;TZID=UTC:20240131T084000
DTEND;TZID=UTC:20240131T140000
DTSTAMP:20260423T001856
CREATED:20240115T163046Z
LAST-MODIFIED:20240115T163239Z
UID:1671-1706690400-1706709600@satog.org
SUMMARY:2. šola kontracepcije 2024
DESCRIPTION:
URL:https://satog.org/event/2-sola-kontracepcije-2024/
LOCATION:Online
ATTACH;FMTTYPE=image/jpeg:https://satog.org/wp-content/uploads/2024/01/contraceptive-deserts-1554391425.jpg
END:VEVENT
BEGIN:VEVENT
DTSTART;TZID=UTC:20240129T153000
DTEND;TZID=UTC:20240129T183000
DTSTAMP:20260423T001856
CREATED:20240122T201400Z
LAST-MODIFIED:20240122T201400Z
UID:1714-1706542200-1706553000@satog.org
SUMMARY:Fotona - rokovanje z Er:Yag laserjem
DESCRIPTION:
URL:https://satog.org/event/fotona-rokovanje-z-eryag-laserjem/
LOCATION:predavalnica Ginekološke klinike\, Šlajmerjeva 3\, Ljubljana
ATTACH;FMTTYPE=image/png:https://satog.org/wp-content/uploads/2023/10/Screen-Shot-2023-10-10-at-21.33.29.png
END:VEVENT
BEGIN:VEVENT
DTSTART;TZID=UTC:20240125T200000
DTEND;TZID=UTC:20240125T213000
DTSTAMP:20260423T001856
CREATED:20240122T201047Z
LAST-MODIFIED:20240122T201057Z
UID:1710-1706212800-1706218200@satog.org
SUMMARY:Izzivi pri obravnavi raka na materničnem vratu
DESCRIPTION:
URL:https://satog.org/event/izivi-pri-obravnavi-raka-na-maternicnem-vratu/
LOCATION:Online
ATTACH;FMTTYPE=image/jpeg:https://satog.org/wp-content/uploads/2024/01/01-03-2021-Cervical-Cancer-Awareness-Month-1-min-scaled-1.jpeg
END:VEVENT
BEGIN:VEVENT
DTSTART;TZID=UTC:20240124T143000
DTEND;TZID=UTC:20240124T153000
DTSTAMP:20260423T001856
CREATED:20240122T214817Z
LAST-MODIFIED:20240122T214817Z
UID:1723-1706106600-1706110200@satog.org
SUMMARY:CTG diskusija
DESCRIPTION:
URL:https://satog.org/event/ctg-diskusija-4/
LOCATION:Seminar PB
END:VEVENT
BEGIN:VEVENT
DTSTART;TZID=UTC:20240117T143000
DTEND;TZID=UTC:20240117T160000
DTSTAMP:20260423T001856
CREATED:20231124T152206Z
LAST-MODIFIED:20231124T152206Z
UID:1558-1705501800-1705507200@satog.org
SUMMARY:Specializantski seminarji
DESCRIPTION:
URL:https://satog.org/event/specializantski-seminarji-16/
ATTACH;FMTTYPE=image/jpeg:https://satog.org/wp-content/uploads/2022/12/picture.jpeg
END:VEVENT
BEGIN:VEVENT
DTSTART;TZID=UTC:20240103T143000
DTEND;TZID=UTC:20240103T153000
DTSTAMP:20260423T001856
CREATED:20231124T152015Z
LAST-MODIFIED:20231124T152015Z
UID:1556-1704292200-1704295800@satog.org
SUMMARY:Specializantski seminarji
DESCRIPTION:
URL:https://satog.org/event/specializantski-seminarji-15/
LOCATION:Semianr PB
ATTACH;FMTTYPE=image/jpeg:https://satog.org/wp-content/uploads/2022/12/picture.jpeg
END:VEVENT
BEGIN:VEVENT
DTSTART;TZID=UTC:20231221T163000
DTEND;TZID=UTC:20231221T180000
DTSTAMP:20260423T001856
CREATED:20231202T130004Z
LAST-MODIFIED:20231202T130004Z
UID:1598-1703176200-1703181600@satog.org
SUMMARY:Dedek Mraz
DESCRIPTION:
URL:https://satog.org/event/dedek-mraz-2/
LOCATION:Predavalnica Ginekološke klinike
ATTACH;FMTTYPE=image/jpeg:https://satog.org/wp-content/uploads/2022/12/istockphoto-1270234432-612x612-1.jpeg
END:VEVENT
BEGIN:VEVENT
DTSTART;TZID=UTC:20231220T143000
DTEND;TZID=UTC:20231220T160000
DTSTAMP:20260423T001856
CREATED:20231124T151320Z
LAST-MODIFIED:20231124T151320Z
UID:1551-1703082600-1703088000@satog.org
SUMMARY:Specializantski seminarji
DESCRIPTION:
URL:https://satog.org/event/specializantski-seminarji-9/
ATTACH;FMTTYPE=image/jpeg:https://satog.org/wp-content/uploads/2022/12/picture.jpeg
END:VEVENT
BEGIN:VEVENT
DTSTART;TZID=UTC:20231214T160000
DTEND;TZID=UTC:20231214T170000
DTSTAMP:20260423T001856
CREATED:20231126T193215Z
LAST-MODIFIED:20231126T193215Z
UID:1582-1702569600-1702573200@satog.org
SUMMARY:IPVS Cervical Cancer
DESCRIPTION:
URL:https://satog.org/event/ipvs-cervical-cancer/
LOCATION:Online
ATTACH;FMTTYPE=image/png:https://satog.org/wp-content/uploads/2023/11/Screen-Shot-2023-11-26-at-20.05.33.png
END:VEVENT
BEGIN:VEVENT
DTSTART;TZID=UTC:20231213T183000
DTEND;TZID=UTC:20231213T233000
DTSTAMP:20260423T001856
CREATED:20231202T130237Z
LAST-MODIFIED:20231202T130237Z
UID:1600-1702492200-1702510200@satog.org
SUMMARY:Novoletno druženje
DESCRIPTION:
URL:https://satog.org/event/novoletno-druzenje/
LOCATION:Trappa\, pizzeria&bar\, Koprska 94\, Ljubljana
ATTACH;FMTTYPE=image/jpeg:https://satog.org/wp-content/uploads/2023/12/Vabilo_novoletnizur-scaled.jpeg
END:VEVENT
BEGIN:VEVENT
DTSTART;TZID=UTC:20231213T143000
DTEND;TZID=UTC:20231213T143000
DTSTAMP:20260423T001856
CREATED:20231124T124856Z
LAST-MODIFIED:20231124T124912Z
UID:1538-1702477800-1702477800@satog.org
SUMMARY:Video ura: Vaginalna histerektomija
DESCRIPTION:
URL:https://satog.org/event/video-ura/
LOCATION:Seminar PB
ATTACH;FMTTYPE=image/png:https://satog.org/wp-content/uploads/2023/02/bannerstriangles2.png
END:VEVENT
BEGIN:VEVENT
DTSTART;TZID=UTC:20231206T143000
DTEND;TZID=UTC:20231206T153000
DTSTAMP:20260423T001856
CREATED:20231205T200738Z
LAST-MODIFIED:20231205T200738Z
UID:1604-1701873000-1701876600@satog.org
SUMMARY:Specializantski seminarji
DESCRIPTION:
URL:https://satog.org/event/specializantski-seminarji-18/
LOCATION:Semianr PB
ATTACH;FMTTYPE=image/jpeg:https://satog.org/wp-content/uploads/2022/12/picture.jpeg
END:VEVENT
BEGIN:VEVENT
DTSTART;TZID=UTC:20231130T190000
DTEND;TZID=UTC:20231130T203000
DTSTAMP:20260423T001856
CREATED:20231126T194839Z
LAST-MODIFIED:20231126T194839Z
UID:1590-1701370800-1701376200@satog.org
SUMMARY:Hysteroscopy: back to basics
DESCRIPTION:
URL:https://satog.org/event/hysteroscopy-back-to-basics/
LOCATION:Online
ATTACH;FMTTYPE=image/png:https://satog.org/wp-content/uploads/2023/11/Screen-Shot-2023-11-26-at-20.46.57.png
END:VEVENT
BEGIN:VEVENT
DTSTART;TZID=UTC:20231129T200000
DTEND;TZID=UTC:20231129T210000
DTSTAMP:20260423T001856
CREATED:20231124T151047Z
LAST-MODIFIED:20231126T194501Z
UID:1549-1701288000-1701291600@satog.org
SUMMARY:Webinar: ultrazvočna diagnostika endometrioze
DESCRIPTION:
URL:https://satog.org/event/webinar-ultrazvocna-diagnostika-endometrioze-3/
LOCATION:Online
ATTACH;FMTTYPE=image/png:https://satog.org/wp-content/uploads/2023/11/Screen-Shot-2023-11-24-at-13.50.44.png
END:VEVENT
BEGIN:VEVENT
DTSTART;TZID=UTC:20231129T180000
DTEND;TZID=UTC:20231129T200000
DTSTAMP:20260423T001856
CREATED:20231126T193443Z
LAST-MODIFIED:20231126T193443Z
UID:1585-1701280800-1701288000@satog.org
SUMMARY:ESSM Female Pelvic Dysfunction
DESCRIPTION:
URL:https://satog.org/event/essm-female-pelvic-dysfunction/
LOCATION:Online
ATTACH;FMTTYPE=image/png:https://satog.org/wp-content/uploads/2023/11/Screen-Shot-2023-11-26-at-20.33.13.png
END:VEVENT
BEGIN:VEVENT
DTSTART;TZID=UTC:20231129T180000
DTEND;TZID=UTC:20231129T190000
DTSTAMP:20260423T001856
CREATED:20231124T124036Z
LAST-MODIFIED:20231126T202522Z
UID:1532-1701280800-1701284400@satog.org
SUMMARY:Webinar: Female sexual dysfunction
DESCRIPTION:
URL:https://satog.org/event/webinar-female-sexual-dysfunction/
LOCATION:Online
ATTACH;FMTTYPE=image/png:https://satog.org/wp-content/uploads/2023/11/Screen-Shot-2023-11-24-at-13.38.46.png
END:VEVENT
BEGIN:VEVENT
DTSTART;TZID=UTC:20231129T143000
DTEND;TZID=UTC:20231129T143000
DTSTAMP:20260423T001856
CREATED:20231124T124534Z
LAST-MODIFIED:20231124T124657Z
UID:1535-1701268200-1701268200@satog.org
SUMMARY:Specializatski seminar
DESCRIPTION:
URL:https://satog.org/event/specializatski-seminar/
LOCATION:Semianr PB
ATTACH;FMTTYPE=image/jpeg:https://satog.org/wp-content/uploads/2022/12/picture.jpeg
END:VEVENT
BEGIN:VEVENT
DTSTART;TZID=UTC:20231124T080000
DTEND;TZID=UTC:20231124T160000
DTSTAMP:20260423T001856
CREATED:20231124T123458Z
LAST-MODIFIED:20231124T151801Z
UID:1528-1700812800-1700841600@satog.org
SUMMARY:POZNO REPRODUKTIVNO OBDOBJE
DESCRIPTION:
URL:https://satog.org/event/pozno-reproduktivno-obdobje/
LOCATION:Domus Medica
ATTACH;FMTTYPE=image/png:https://satog.org/wp-content/uploads/2023/11/Screen-Shot-2023-11-24-at-13.34.19.png
END:VEVENT
BEGIN:VEVENT
DTSTART;TZID=UTC:20231016T153000
DTEND;TZID=UTC:20231016T190000
DTSTAMP:20260423T001856
CREATED:20231010T193456Z
LAST-MODIFIED:20231010T193456Z
UID:1459-1697470200-1697482800@satog.org
SUMMARY:FOTONA - izobraževanje Er YAG Laser
DESCRIPTION:Na SATOGovo pobudo podjetje FOTONA za nas organizira izobraževanje o rokovanju s Fotoninim Er YAG laserjem.
URL:https://satog.org/event/fotona-izobrazevanje-er-yag-laser/
LOCATION:Ginekološka klinika
ATTACH;FMTTYPE=image/png:https://satog.org/wp-content/uploads/2023/10/Screen-Shot-2023-10-10-at-21.33.29.png
END:VEVENT
BEGIN:VEVENT
DTSTART;TZID=UTC:20231009T080000
DTEND;TZID=UTC:20231012T170000
DTSTAMP:20260423T001856
CREATED:20221218T135149Z
LAST-MODIFIED:20221218T223309Z
UID:1002-1696838400-1697130000@satog.org
SUMMARY:XXIV FIGO World Congress of Gynecology and Obstetrics
DESCRIPTION:Več informacij na: https://figo2023.org/
URL:https://satog.org/event/xxiv-figo-world-congress-of-gynecology-and-obstetrics/
LOCATION:Pariz\, Francija
ATTACH;FMTTYPE=image/png:https://satog.org/wp-content/uploads/2022/12/International_Federation_of_Gynaecology_and_Obstetrics_logo.svg_.png
END:VEVENT
BEGIN:VEVENT
DTSTART;TZID=UTC:20230928T080000
DTEND;TZID=UTC:20231001T170000
DTSTAMP:20260423T001856
CREATED:20221218T135331Z
LAST-MODIFIED:20221218T223231Z
UID:1004-1695888000-1696179600@satog.org
SUMMARY:24. letno srečanje ESGO
DESCRIPTION:Več informacij na: https://esgo.org/event/esgo-2023-european-congress-on-gynaecological-oncology/
URL:https://satog.org/event/24-letno-srecanje-esgo/
LOCATION:Istanbul\, Turčija
ATTACH;FMTTYPE=image/png:https://satog.org/wp-content/uploads/2022/12/download-1.png
END:VEVENT
BEGIN:VEVENT
DTSTART;TZID=UTC:20230922T080000
DTEND;TZID=UTC:20230922T170000
DTSTAMP:20260423T001856
CREATED:20230907T101853Z
LAST-MODIFIED:20230907T102427Z
UID:1448-1695369600-1695402000@satog.org
SUMMARY:ENTOG - Annual Scientific Meeting
DESCRIPTION:
URL:https://satog.org/event/entog-annual-scientific-meeting/
LOCATION:Birmingham\, Združeno kraljestvo
ATTACH;FMTTYPE=image/png:https://satog.org/wp-content/uploads/2023/09/cropped-Entog_logo_CMYK-e1521398677414.png
END:VEVENT
BEGIN:VEVENT
DTSTART;TZID=UTC:20230919T080000
DTEND;TZID=UTC:20230922T143000
DTSTAMP:20260423T001856
CREATED:20230907T102930Z
LAST-MODIFIED:20230907T102930Z
UID:1454-1695110400-1695393000@satog.org
SUMMARY:Ljubljanska šola ginekološke endoskopije
DESCRIPTION:Namen in opis tečaja\nTečaj je namenjen specializantom\, mlajšim specialistom in vsem\, ki bi želeli obnoviti in poglobiti\nznanje laparoskopske in histeroskopske kirurgije po ESGE in GESEA smernicah. V tečaju bomo\nprikazali posege\, ki jih mora obvladati (teoretično ali praktično) ginekolog\, ko konča specializacijo iz\nginekologije in porodništva.\nMed tridnevnim tečajem se bodo tečajniki seznanili z osnovnimi načeli laparoskopske in\nhisteroskopske kirurgije\, anatomijo\, inštrumenti in viri energij\, ki jih uporabljamo pri tovrstnih\noperacijah. Novost letošnjega tečaja bodo predavanja o najpogostejših ginekoloških patologijah\, ki jih\nsrečujemo v vsakdanji klinični in operativni praksi\, in njihovi kirurški obravnavi. Tečajnike bomo\nseznanili tudi z zapleti\, do katerih lahko pride\, preprečevanjem in ukrepih ob pojavu le-teh. Izkušeni\nlaparoskopski in histeroskopski kirurgi bodo s predavanji in posegi\, ki jih bomo prenašali v živo\,\npredstavili značilne operacije.\nV popoldanskem času bodo tečajniki pod vodstvom mentorjev in ob pomoči izkušenih operacijskih\nsester vadili na laparoskopskih in histeroskopskih trenažerjih. Pripravili bomo spretnostne vaje in\nmodele\, ki bodo posnemali posamezne patološke spremembe. Zadnji dan bomo s kratkim testom\npreverili pridobljeno znanje med tečajem.\nTečaj se bo zaključil s spominskim simpozijem z naslovom »Endometrioza črevesa«\, ki smo ga\nposvetili izjemnemu človeku\, kirurgu in prijatelju asist. mag. Robertu Juvanu\, dr.med.\, ki nas je\nzapustil mnogo prezgodaj. Potekal bo v petek\, 22. 9. 2023 in je namenjen vsem specializantom in\nspecialistom ginekologije\, abdominalne kirurgije\, gastroenterologije in splošne medicine. Simpozij bo\ngovoril o najpogostejših metodah diagnostike in zdravljenja endometrioze črevesa ter obravnaval\ntežave bolnic z endometriozo črevesa skozi perspektivo ginekologov in abdominalnih kirurgov.\nVodja tečaja\nIzr. prof. dr. Helena Ban Frangež\, dr. med.
URL:https://satog.org/event/ljubljanska-sola-ginekoloske-endoskopije/
LOCATION:Ginekološka klinika
ATTACH;FMTTYPE=image/jpeg:https://satog.org/wp-content/uploads/2023/09/General-Laparoscopic-Surgery.jpg
END:VEVENT
BEGIN:VEVENT
DTSTART;TZID=UTC:20230915T080000
DTEND;TZID=UTC:20230916T150000
DTSTAMP:20260423T001856
CREATED:20230907T102306Z
LAST-MODIFIED:20230907T102306Z
UID:1451-1694764800-1694876400@satog.org
SUMMARY:Adolesecentna medicina
DESCRIPTION:Petek 15.9. 2023\n14.30 -15.00 Dobrodošlica udeležencem in uvod v tretji modul.\n15.00-15.30 Doc. dr. Eva Turk\, MBA. Zdravstvena pismenost mladostnikov in njihovih staršev\n15.30-16.15 Damjana Bosilj dr. med.\, spec. gin. Spolno in reproduktivno zdravje mladostnic in\nmladostnikov.\n16.15 -17.00 Asist. dr. Gabriela Simetinger\, dr. med.\, spec.gin. Spolnost mladostnikov in spolne\nidentitete.\n17.00 – 17.15 Razprava\n17.15 -17.45 Odmor\n17.45-19.15 Zakaj pa jaz nisem cepljen? Kaj pa spolnost? (World caffe na temo zdravstvene\npismenosti in javnozdravstvenih pristopov). (Nataša Borko dr. med.\, spec gin.\, Asist. dr. Bernarda\nVogrin dr. med.\, spec. ped.\, Vesna Pekarović Džakulin dr.med.\, spec. druž. med. in spec. med. dela\nprometa in športa\, Mojca Ivankovič Kacjan dr. med.\, spec. Ped.\, študenti medicine.\n19.15 -20.30 Druženje\nSobota\, 16.9. 2023\n8.00 -8.30 Registracija\n8.30 – 9.15 Prim. Anica Mikuš Kos dr.med\, spec. ped.\, spec. psih. Mladostnik kot žrtev ali povzročitelj\nnasilja.\n9.15-9.45 Izr. Prof. Urh Grošelj dr. med.\, spec. ped. Etični vidik\, pravice in odgovornost mladostnika\,\nvloga družine in vloga zdravstvenih delavcev.\n9.45-10.00 Razprava\n10.00-10.15 Odmor\n10.15 -11.00 Prof. dr. Damjan Korošec univ. dipl. prav. Pravni vidik\, pravice in odgovornost\nmladostnika\, družine in zdravstvenih delavcev.\n11.00- 11.30 Simona Lilek\, kriminalistična inšpektorica specialistka. Mladi in nasilje -pogled\nkriminalista.\n11.30 -12.00 Razprava\n12.00 -12.45 Kosilo\n12.45 – 14.15 Ana Jerman\, spec. klin. psih. Interaktivne delavnice: Komunikacija z mladostnikom\nžrtvijo nasilja.\n14.15 – 14.30 Povzetek izobraževanja\n14.30 -15.00 Evalvacija in zaključek III. Modula.
URL:https://satog.org/event/adolesecentna-medicina/
LOCATION:Medicinska fakulteta UM\, Taborska ulica 8\, 2000 Maribor; Avditorij in 1N6
ATTACH;FMTTYPE=image/jpeg:https://satog.org/wp-content/uploads/2023/03/Pediatric-Adolescent-Gynecology.jpeg
END:VEVENT
BEGIN:VEVENT
DTSTART;TZID=UTC:20230628T143000
DTEND;TZID=UTC:20230628T153000
DTSTAMP:20260423T001856
CREATED:20230627T142905Z
LAST-MODIFIED:20230627T142905Z
UID:1407-1687962600-1687966200@satog.org
SUMMARY:Specializantski seminarji
DESCRIPTION:
URL:https://satog.org/event/specializantski-seminarji-14/
LOCATION:Seminar PB
ATTACH;FMTTYPE=image/jpeg:https://satog.org/wp-content/uploads/2022/12/picture.jpeg
END:VEVENT
END:VCALENDAR