BEGIN:VCALENDAR
VERSION:2.0
PRODID:-//SATOG - ECPv6.15.20//NONSGML v1.0//EN
CALSCALE:GREGORIAN
METHOD:PUBLISH
X-WR-CALNAME:SATOG
X-ORIGINAL-URL:https://satog.org
X-WR-CALDESC:Dogodki za SATOG
REFRESH-INTERVAL;VALUE=DURATION:PT1H
X-Robots-Tag:noindex
X-PUBLISHED-TTL:PT1H
BEGIN:VTIMEZONE
TZID:UTC
BEGIN:STANDARD
TZOFFSETFROM:+0000
TZOFFSETTO:+0000
TZNAME:UTC
DTSTART:20220101T000000
END:STANDARD
END:VTIMEZONE
BEGIN:VEVENT
DTSTART;TZID=UTC:20230919T080000
DTEND;TZID=UTC:20230922T143000
DTSTAMP:20260423T040012
CREATED:20230907T102930Z
LAST-MODIFIED:20230907T102930Z
UID:1454-1695110400-1695393000@satog.org
SUMMARY:Ljubljanska šola ginekološke endoskopije
DESCRIPTION:Namen in opis tečaja\nTečaj je namenjen specializantom\, mlajšim specialistom in vsem\, ki bi želeli obnoviti in poglobiti\nznanje laparoskopske in histeroskopske kirurgije po ESGE in GESEA smernicah. V tečaju bomo\nprikazali posege\, ki jih mora obvladati (teoretično ali praktično) ginekolog\, ko konča specializacijo iz\nginekologije in porodništva.\nMed tridnevnim tečajem se bodo tečajniki seznanili z osnovnimi načeli laparoskopske in\nhisteroskopske kirurgije\, anatomijo\, inštrumenti in viri energij\, ki jih uporabljamo pri tovrstnih\noperacijah. Novost letošnjega tečaja bodo predavanja o najpogostejših ginekoloških patologijah\, ki jih\nsrečujemo v vsakdanji klinični in operativni praksi\, in njihovi kirurški obravnavi. Tečajnike bomo\nseznanili tudi z zapleti\, do katerih lahko pride\, preprečevanjem in ukrepih ob pojavu le-teh. Izkušeni\nlaparoskopski in histeroskopski kirurgi bodo s predavanji in posegi\, ki jih bomo prenašali v živo\,\npredstavili značilne operacije.\nV popoldanskem času bodo tečajniki pod vodstvom mentorjev in ob pomoči izkušenih operacijskih\nsester vadili na laparoskopskih in histeroskopskih trenažerjih. Pripravili bomo spretnostne vaje in\nmodele\, ki bodo posnemali posamezne patološke spremembe. Zadnji dan bomo s kratkim testom\npreverili pridobljeno znanje med tečajem.\nTečaj se bo zaključil s spominskim simpozijem z naslovom »Endometrioza črevesa«\, ki smo ga\nposvetili izjemnemu človeku\, kirurgu in prijatelju asist. mag. Robertu Juvanu\, dr.med.\, ki nas je\nzapustil mnogo prezgodaj. Potekal bo v petek\, 22. 9. 2023 in je namenjen vsem specializantom in\nspecialistom ginekologije\, abdominalne kirurgije\, gastroenterologije in splošne medicine. Simpozij bo\ngovoril o najpogostejših metodah diagnostike in zdravljenja endometrioze črevesa ter obravnaval\ntežave bolnic z endometriozo črevesa skozi perspektivo ginekologov in abdominalnih kirurgov.\nVodja tečaja\nIzr. prof. dr. Helena Ban Frangež\, dr. med.
URL:https://satog.org/event/ljubljanska-sola-ginekoloske-endoskopije/
LOCATION:Ginekološka klinika
ATTACH;FMTTYPE=image/jpeg:https://satog.org/wp-content/uploads/2023/09/General-Laparoscopic-Surgery.jpg
END:VEVENT
BEGIN:VEVENT
DTSTART;TZID=UTC:20230915T080000
DTEND;TZID=UTC:20230916T150000
DTSTAMP:20260423T040012
CREATED:20230907T102306Z
LAST-MODIFIED:20230907T102306Z
UID:1451-1694764800-1694876400@satog.org
SUMMARY:Adolesecentna medicina
DESCRIPTION:Petek 15.9. 2023\n14.30 -15.00 Dobrodošlica udeležencem in uvod v tretji modul.\n15.00-15.30 Doc. dr. Eva Turk\, MBA. Zdravstvena pismenost mladostnikov in njihovih staršev\n15.30-16.15 Damjana Bosilj dr. med.\, spec. gin. Spolno in reproduktivno zdravje mladostnic in\nmladostnikov.\n16.15 -17.00 Asist. dr. Gabriela Simetinger\, dr. med.\, spec.gin. Spolnost mladostnikov in spolne\nidentitete.\n17.00 – 17.15 Razprava\n17.15 -17.45 Odmor\n17.45-19.15 Zakaj pa jaz nisem cepljen? Kaj pa spolnost? (World caffe na temo zdravstvene\npismenosti in javnozdravstvenih pristopov). (Nataša Borko dr. med.\, spec gin.\, Asist. dr. Bernarda\nVogrin dr. med.\, spec. ped.\, Vesna Pekarović Džakulin dr.med.\, spec. druž. med. in spec. med. dela\nprometa in športa\, Mojca Ivankovič Kacjan dr. med.\, spec. Ped.\, študenti medicine.\n19.15 -20.30 Druženje\nSobota\, 16.9. 2023\n8.00 -8.30 Registracija\n8.30 – 9.15 Prim. Anica Mikuš Kos dr.med\, spec. ped.\, spec. psih. Mladostnik kot žrtev ali povzročitelj\nnasilja.\n9.15-9.45 Izr. Prof. Urh Grošelj dr. med.\, spec. ped. Etični vidik\, pravice in odgovornost mladostnika\,\nvloga družine in vloga zdravstvenih delavcev.\n9.45-10.00 Razprava\n10.00-10.15 Odmor\n10.15 -11.00 Prof. dr. Damjan Korošec univ. dipl. prav. Pravni vidik\, pravice in odgovornost\nmladostnika\, družine in zdravstvenih delavcev.\n11.00- 11.30 Simona Lilek\, kriminalistična inšpektorica specialistka. Mladi in nasilje -pogled\nkriminalista.\n11.30 -12.00 Razprava\n12.00 -12.45 Kosilo\n12.45 – 14.15 Ana Jerman\, spec. klin. psih. Interaktivne delavnice: Komunikacija z mladostnikom\nžrtvijo nasilja.\n14.15 – 14.30 Povzetek izobraževanja\n14.30 -15.00 Evalvacija in zaključek III. Modula.
URL:https://satog.org/event/adolesecentna-medicina/
LOCATION:Medicinska fakulteta UM\, Taborska ulica 8\, 2000 Maribor; Avditorij in 1N6
ATTACH;FMTTYPE=image/jpeg:https://satog.org/wp-content/uploads/2023/03/Pediatric-Adolescent-Gynecology.jpeg
END:VEVENT
BEGIN:VEVENT
DTSTART;TZID=UTC:20230628T143000
DTEND;TZID=UTC:20230628T153000
DTSTAMP:20260423T040012
CREATED:20230627T142905Z
LAST-MODIFIED:20230627T142905Z
UID:1407-1687962600-1687966200@satog.org
SUMMARY:Specializantski seminarji
DESCRIPTION:
URL:https://satog.org/event/specializantski-seminarji-14/
LOCATION:Seminar PB
ATTACH;FMTTYPE=image/jpeg:https://satog.org/wp-content/uploads/2022/12/picture.jpeg
END:VEVENT
BEGIN:VEVENT
DTSTART;TZID=UTC:20230625T080000
DTEND;TZID=UTC:20230628T170000
DTSTAMP:20260423T040012
CREATED:20221218T135000Z
LAST-MODIFIED:20221218T223158Z
UID:1000-1687680000-1687971600@satog.org
SUMMARY:39. srečanje ESHRE
DESCRIPTION:Več informacij na: https://www.eshre.eu/ESHRE2023
URL:https://satog.org/event/39-srecanje-eshre/
LOCATION:Kopenhagen\, Danska
ATTACH;FMTTYPE=image/png:https://satog.org/wp-content/uploads/2022/12/Logo_Eshre_v2.png
END:VEVENT
BEGIN:VEVENT
DTSTART;TZID=UTC:20230614T143000
DTEND;TZID=UTC:20230614T153000
DTSTAMP:20260423T040012
CREATED:20221223T182143Z
LAST-MODIFIED:20230614T033005Z
UID:1153-1686753000-1686756600@satog.org
SUMMARY:Specializantski seminarji
DESCRIPTION:
URL:https://satog.org/event/specializantski-seminarji-8/
LOCATION:Predavalnica GK
ATTACH;FMTTYPE=image/jpeg:https://satog.org/wp-content/uploads/2022/12/picture.jpeg
END:VEVENT
BEGIN:VEVENT
DTSTART;TZID=UTC:20230531T143000
DTEND;TZID=UTC:20230531T153000
DTSTAMP:20260423T040012
CREATED:20230530T211635Z
LAST-MODIFIED:20230530T211702Z
UID:1387-1685543400-1685547000@satog.org
SUMMARY:CTG diskusija
DESCRIPTION:
URL:https://satog.org/event/ctg-diskusija-3/
LOCATION:Seminar PB
ATTACH;FMTTYPE=image/jpeg:https://satog.org/wp-content/uploads/2023/03/1000_F_165864986_mA9wHjWAyfadb50QpdCzjv02qpXFDBpq.jpg
END:VEVENT
BEGIN:VEVENT
DTSTART;TZID=UTC:20230526T080000
DTEND;TZID=UTC:20230527T170000
DTSTAMP:20260423T040012
CREATED:20221223T202135Z
LAST-MODIFIED:20221223T202135Z
UID:1176-1685088000-1685206800@satog.org
SUMMARY:Novakovi dnevi 2023
DESCRIPTION:
URL:https://satog.org/event/novakovi-dnevi-2023/
ATTACH;FMTTYPE=image/jpeg:https://satog.org/wp-content/uploads/2022/12/novakovi_dnevi-1-e1655460212363.jpg
END:VEVENT
BEGIN:VEVENT
DTSTART;TZID=UTC:20230524T143000
DTEND;TZID=UTC:20230524T153000
DTSTAMP:20260423T040012
CREATED:20221223T182038Z
LAST-MODIFIED:20221223T182038Z
UID:1150-1684938600-1684942200@satog.org
SUMMARY:Specializantski seminarji
DESCRIPTION:
URL:https://satog.org/event/specializantski-seminarji-7/
LOCATION:Predavalnica GK
ATTACH;FMTTYPE=image/jpeg:https://satog.org/wp-content/uploads/2022/12/picture.jpeg
END:VEVENT
BEGIN:VEVENT
DTSTART;TZID=UTC:20230519T080000
DTEND;TZID=UTC:20230521T170000
DTSTAMP:20260423T040012
CREATED:20221218T134810Z
LAST-MODIFIED:20221218T223123Z
UID:997-1684483200-1684688400@satog.org
SUMMARY:ACOG Annual Clinical & Scientific Meeting
DESCRIPTION:Več informacij na: https://annualmeeting.acog.org/
URL:https://satog.org/event/acog-annual-clinical-science-meeting/
LOCATION:Baltimore\, Maryland\, ZDA
ATTACH;FMTTYPE=image/png:https://satog.org/wp-content/uploads/2022/12/American_College_of_Obstetricians_and_Gynecologists_logo.svg_.png
END:VEVENT
BEGIN:VEVENT
DTSTART;TZID=UTC:20230518T160000
DTEND;TZID=UTC:20230518T170000
DTSTAMP:20260423T040012
CREATED:20221218T134210Z
LAST-MODIFIED:20221218T222924Z
UID:990-1684425600-1684429200@satog.org
SUMMARY:FIGO global webinar
DESCRIPTION:Več informacij na: https://www.figo.org/events/figo-webinars 
URL:https://satog.org/event/figo-global-webinar-5/
LOCATION:Online
ATTACH;FMTTYPE=image/png:https://satog.org/wp-content/uploads/2022/12/International_Federation_of_Gynaecology_and_Obstetrics_logo.svg_.png
END:VEVENT
BEGIN:VEVENT
DTSTART;TZID=UTC:20230518T080000
DTEND;TZID=UTC:20230521T170000
DTSTAMP:20260423T040012
CREATED:20221218T134525Z
LAST-MODIFIED:20221218T222849Z
UID:994-1684396800-1684688400@satog.org
SUMMARY:20th World Congress of Paediatric and Adolescent Gynaecology (WCPAG)
DESCRIPTION:Več informacij na: https://www.wcpag2023.org/
URL:https://satog.org/event/20th-world-congress-of-paediatric-and-adolescent-gynaecology-wcpag/
LOCATION:Beograd\, Srbija
ATTACH;FMTTYPE=image/jpeg:https://satog.org/wp-content/uploads/2022/12/wcpag-2023-schema-og-logo.jpeg
END:VEVENT
BEGIN:VEVENT
DTSTART;TZID=UTC:20230518T080000
DTEND;TZID=UTC:20230520T170000
DTSTAMP:20260423T040012
CREATED:20221218T134308Z
LAST-MODIFIED:20221218T222811Z
UID:992-1684396800-1684602000@satog.org
SUMMARY:28th European Congress of Obstetrics and Gynaecology (EBCOG)
DESCRIPTION:Več informacij na: https://www.ebcog2023.com/
URL:https://satog.org/event/28th-european-congress-of-obstetrics-and-gynaecology-ebcog/
LOCATION:Krakow\, Poljska\, Krakow\, Poljska
ATTACH;FMTTYPE=image/png:https://satog.org/wp-content/uploads/2022/12/download.png
END:VEVENT
BEGIN:VEVENT
DTSTART;TZID=UTC:20230510T143000
DTEND;TZID=UTC:20230510T153000
DTSTAMP:20260423T040012
CREATED:20230509T213400Z
LAST-MODIFIED:20230509T213429Z
UID:1383-1683729000-1683732600@satog.org
SUMMARY:Specializantski seminarji
DESCRIPTION:
URL:https://satog.org/event/specializantski-seminarji-13/
LOCATION:Seminar PB
ATTACH;FMTTYPE=image/jpeg:https://satog.org/wp-content/uploads/2022/12/picture.jpeg
END:VEVENT
BEGIN:VEVENT
DTSTART;TZID=UTC:20230426T140000
DTEND;TZID=UTC:20230426T153000
DTSTAMP:20260423T040012
CREATED:20221223T181925Z
LAST-MODIFIED:20230425T182153Z
UID:1148-1682517600-1682523000@satog.org
SUMMARY:Specializantski seminarji
DESCRIPTION:
URL:https://satog.org/event/specializantski-seminarji-6/
LOCATION:Predavalnica GK
ATTACH;FMTTYPE=image/jpeg:https://satog.org/wp-content/uploads/2022/12/picture.jpeg
END:VEVENT
BEGIN:VEVENT
DTSTART;TZID=UTC:20230421T083000
DTEND;TZID=UTC:20230422T163000
DTSTAMP:20260423T040012
CREATED:20230313T213927Z
LAST-MODIFIED:20230313T213927Z
UID:1337-1682065800-1682181000@satog.org
SUMMARY:UZ šola v perinatologiji
DESCRIPTION:
URL:https://satog.org/event/uz-sola-v-perinatologiji/
LOCATION:Ginekološka klinika
ATTACH;FMTTYPE=image/jpeg:https://satog.org/wp-content/uploads/2023/03/UZ-sola-1.jpeg
END:VEVENT
BEGIN:VEVENT
DTSTART;TZID=UTC:20230420T160000
DTEND;TZID=UTC:20230420T170000
DTSTAMP:20260423T040012
CREATED:20221218T134118Z
LAST-MODIFIED:20221218T222641Z
UID:988-1682006400-1682010000@satog.org
SUMMARY:FIGO global webinar
DESCRIPTION:Več informacij na: https://www.figo.org/events/figo-webinars 
URL:https://satog.org/event/figo-global-webinar-4/
LOCATION:Online
ATTACH;FMTTYPE=image/png:https://satog.org/wp-content/uploads/2022/12/International_Federation_of_Gynaecology_and_Obstetrics_logo.svg_.png
END:VEVENT
BEGIN:VEVENT
DTSTART;TZID=UTC:20230419T143000
DTEND;TZID=UTC:20230419T160000
DTSTAMP:20260423T040012
CREATED:20230228T220312Z
LAST-MODIFIED:20230228T220312Z
UID:1323-1681914600-1681920000@satog.org
SUMMARY:Specializantski seminarji
DESCRIPTION:
URL:https://satog.org/event/specializantski-seminarji-12/
ATTACH;FMTTYPE=image/jpeg:https://satog.org/wp-content/uploads/2022/12/picture.jpeg
END:VEVENT
BEGIN:VEVENT
DTSTART;TZID=UTC:20230414T140000
DTEND;TZID=UTC:20230415T153000
DTSTAMP:20260423T040012
CREATED:20230224T200257Z
LAST-MODIFIED:20230224T200257Z
UID:1299-1681480800-1681572600@satog.org
SUMMARY:Fetalna kardiološka šola
DESCRIPTION:
URL:https://satog.org/event/fetalna-kardioloska-sola/
LOCATION:Hotel A\, Celje
ATTACH;FMTTYPE=image/webp:https://satog.org/wp-content/uploads/2023/02/yperixografiki_eksetasi_emvriou-300x200-1.webp
END:VEVENT
BEGIN:VEVENT
DTSTART;TZID=UTC:20230414T080000
DTEND;TZID=UTC:20230414T170000
DTSTAMP:20260423T040012
CREATED:20230228T215311Z
LAST-MODIFIED:20230228T215311Z
UID:1310-1681459200-1681491600@satog.org
SUMMARY:7. Šola o ginekološkem raku - rak telesa maternice
DESCRIPTION:
URL:https://satog.org/event/7-sola-o-ginekoloskem-raku-rak-telesa-maternice/
LOCATION:Onkološki inštitut Ljubljana
ATTACH;FMTTYPE=image/png:https://satog.org/wp-content/uploads/2023/02/logo_onkoloski.png
END:VEVENT
BEGIN:VEVENT
DTSTART;TZID=UTC:20230412T143000
DTEND;TZID=UTC:20230412T153000
DTSTAMP:20260423T040012
CREATED:20221223T174137Z
LAST-MODIFIED:20221223T174137Z
UID:1145-1681309800-1681313400@satog.org
SUMMARY:Specializantski seminarji
DESCRIPTION:
URL:https://satog.org/event/specializantski-seminarji-5/
LOCATION:Predavalnica GK
ATTACH;FMTTYPE=image/jpeg:https://satog.org/wp-content/uploads/2022/12/picture.jpeg
END:VEVENT
BEGIN:VEVENT
DTSTART;TZID=UTC:20230405T141500
DTEND;TZID=UTC:20230405T153000
DTSTAMP:20260423T040012
CREATED:20230321T203124Z
LAST-MODIFIED:20230404T195039Z
UID:1356-1680704100-1680708600@satog.org
SUMMARY:CTG diskusija
DESCRIPTION:
URL:https://satog.org/event/ctg-diskusija-2/
LOCATION:Seminar PB
ATTACH;FMTTYPE=image/jpeg:https://satog.org/wp-content/uploads/2023/03/1000_F_165864986_mA9wHjWAyfadb50QpdCzjv02qpXFDBpq.jpg
END:VEVENT
BEGIN:VEVENT
DTSTART;TZID=UTC:20230330T080000
DTEND;TZID=UTC:20230330T170000
DTSTAMP:20260423T040012
CREATED:20230228T215800Z
LAST-MODIFIED:20230228T215843Z
UID:1314-1680163200-1680195600@satog.org
SUMMARY:Tečaj iz načrtovanja družine – praktični vidiki
DESCRIPTION:
URL:https://satog.org/event/tecaj-iz-nacrtovanja-druzine-prakticni-vidiki/
LOCATION:Ginekološka klinika
ATTACH;FMTTYPE=image/png:https://satog.org/wp-content/uploads/2023/02/Screen-Shot-2023-02-28-at-22.58.09.png
END:VEVENT
BEGIN:VEVENT
DTSTART;TZID=UTC:20230329T140000
DTEND;TZID=UTC:20230329T160000
DTSTAMP:20260423T040012
CREATED:20230321T202712Z
LAST-MODIFIED:20230404T200142Z
UID:1353-1680098400-1680105600@satog.org
SUMMARY:Stimulacija jajčnikov - predavanje
DESCRIPTION:
URL:https://satog.org/event/stimulacija-jajcnikov-predavanje/
LOCATION:Seminar PB
ATTACH;FMTTYPE=image/jpeg:https://satog.org/wp-content/uploads/2023/03/ovarian-stimulation-line-icon-illustration-vector.jpeg
END:VEVENT
BEGIN:VEVENT
DTSTART;TZID=UTC:20230324T080000
DTEND;TZID=UTC:20230324T170000
DTSTAMP:20260423T040012
CREATED:20230224T195631Z
LAST-MODIFIED:20230224T195714Z
UID:1293-1679644800-1679677200@satog.org
SUMMARY:Pogosta proktološka stanja v ginekologiji - Iatros
DESCRIPTION:
URL:https://satog.org/event/pogosta-proktoloska-stanja-v-ginekologiji-iatros/
LOCATION:Dvorana Krka\, Dunajska cesta 65\, Ljubljana
ATTACH;FMTTYPE=image/png:https://satog.org/wp-content/uploads/2023/02/Screen-Shot-2023-02-24-at-20.55.48.png
END:VEVENT
BEGIN:VEVENT
DTSTART;TZID=UTC:20230322T143000
DTEND;TZID=UTC:20230322T153000
DTSTAMP:20260423T040012
CREATED:20230228T220129Z
LAST-MODIFIED:20230321T201958Z
UID:1321-1679495400-1679499000@satog.org
SUMMARY:Specializantski seminarji
DESCRIPTION:
URL:https://satog.org/event/specializantski-seminarji-11/
LOCATION:Seminar PB
ATTACH;FMTTYPE=image/jpeg:https://satog.org/wp-content/uploads/2022/12/picture.jpeg
END:VEVENT
BEGIN:VEVENT
DTSTART;TZID=UTC:20230316T160000
DTEND;TZID=UTC:20230316T170000
DTSTAMP:20260423T040012
CREATED:20221218T133942Z
LAST-MODIFIED:20221218T222716Z
UID:986-1678982400-1678986000@satog.org
SUMMARY:FIGO global webinar
DESCRIPTION:Več informacij na: https://www.figo.org/events/figo-webinars 
URL:https://satog.org/event/figo-global-webinar-3/
LOCATION:Online
ATTACH;FMTTYPE=image/png:https://satog.org/wp-content/uploads/2022/12/International_Federation_of_Gynaecology_and_Obstetrics_logo.svg_.png
END:VEVENT
BEGIN:VEVENT
DTSTART;TZID=UTC:20230315T143000
DTEND;TZID=UTC:20230315T153000
DTSTAMP:20260423T040012
CREATED:20230313T205654Z
LAST-MODIFIED:20230313T212702Z
UID:1333-1678890600-1678894200@satog.org
SUMMARY:Otroška ginekologija
DESCRIPTION:
URL:https://satog.org/event/otroska-ginekologija/
LOCATION:Ginekološka klinika
ATTACH;FMTTYPE=image/jpeg:https://satog.org/wp-content/uploads/2023/03/Pediatric-Adolescent-Gynecology.jpeg
END:VEVENT
BEGIN:VEVENT
DTSTART;TZID=UTC:20230310T150000
DTEND;TZID=UTC:20230311T140000
DTSTAMP:20260423T040012
CREATED:20230224T201459Z
LAST-MODIFIED:20230224T201751Z
UID:1304-1678460400-1678543200@satog.org
SUMMARY:Izobraževanje iz adolescentne medicine z interaktivnimi delavnicami
DESCRIPTION:
URL:https://satog.org/event/izobrazevanje-iz-adolescentne-medicine-z-interaktivnimi-delavnicami/
LOCATION:Medicinska fakulteta UM\, Taborska ulica 8\, 2000 Maribor; Avditorij in 1N6
ATTACH;FMTTYPE=image/jpeg:https://satog.org/wp-content/uploads/2023/02/1000_F_319159532_tPFqmVyaq98PHhHDaBd7jlHIv0pFYtsI.jpeg
END:VEVENT
BEGIN:VEVENT
DTSTART;TZID=UTC:20230309T080000
DTEND;TZID=UTC:20230311T170000
DTSTAMP:20260423T040012
CREATED:20221223T171228Z
LAST-MODIFIED:20221223T171307Z
UID:1140-1678348800-1678554000@satog.org
SUMMARY:6th European Congress on Intrapartum Care
DESCRIPTION:Več informacij na: https://www.mcascientificevents.eu/ecic/
URL:https://satog.org/event/1140/
LOCATION:Belgrade\, Serbia
ATTACH;FMTTYPE=image/png:https://satog.org/wp-content/uploads/2022/12/logo-ecic-2023-2x.png
END:VEVENT
BEGIN:VEVENT
DTSTART;TZID=UTC:20230308T143000
DTEND;TZID=UTC:20230308T160000
DTSTAMP:20260423T040012
CREATED:20230228T220030Z
LAST-MODIFIED:20230307T201357Z
UID:1319-1678285800-1678291200@satog.org
SUMMARY:Specializantski seminarji
DESCRIPTION:
URL:https://satog.org/event/specializantski-seminarji-10/
LOCATION:Seminar PB
ATTACH;FMTTYPE=image/jpeg:https://satog.org/wp-content/uploads/2022/12/picture.jpeg
END:VEVENT
END:VCALENDAR