BEGIN:VCALENDAR
VERSION:2.0
PRODID:-//SATOG - ECPv6.15.20//NONSGML v1.0//EN
CALSCALE:GREGORIAN
METHOD:PUBLISH
X-ORIGINAL-URL:https://satog.org
X-WR-CALDESC:Dogodki za SATOG
REFRESH-INTERVAL;VALUE=DURATION:PT1H
X-Robots-Tag:noindex
X-PUBLISHED-TTL:PT1H
BEGIN:VTIMEZONE
TZID:UTC
BEGIN:STANDARD
TZOFFSETFROM:+0000
TZOFFSETTO:+0000
TZNAME:UTC
DTSTART:20240101T000000
END:STANDARD
END:VTIMEZONE
BEGIN:VEVENT
DTSTART;TZID=UTC:20250131T153000
DTEND;TZID=UTC:20250131T200000
DTSTAMP:20260421T121020
CREATED:20241223T213803Z
LAST-MODIFIED:20241223T213803Z
UID:2961-1738337400-1738353600@satog.org
SUMMARY:3. UROGINEKOLOŠKA ŠOLA: delavnica za specializante in mlade specialiste
DESCRIPTION:Spoštovani specializanti in mladi specialisti\,\nvljudno Vas vabimo na 3. uroginekološko šolo: Osnovni tečaj uroginekologije za\nspecializante in mlade specialiste\, ki jo organiziramo v petek\, 31. 1. 2025\, s pričetkom ob\n15.30 uri.\nNa tečaju bomo obravnavali teme\, za katere verjamemo\, da vam bodo koristile v\nvsakodnevni klinični praksi – od fiziologije mikcije in obravnave ženske z uroginekološkimi\ntežavami\, pa vse do zdravljenja urinske inkontinence in zdrsa medeničnih organov.\nVljudno vabljeni!
URL:https://satog.org/event/3-uroginekoloska-sola-delavnica-za-specializante-in-mlade-specialiste/
LOCATION:Klinika za ginekologijo in perinatologijo UKC MB
CATEGORIES:Slovenski dogodek
ATTACH;FMTTYPE=image/png:https://satog.org/wp-content/uploads/2024/12/3.uroginekoloska-sola.png
END:VEVENT
BEGIN:VEVENT
DTSTART;TZID=UTC:20250205T143000
DTEND;TZID=UTC:20250205T153000
DTSTAMP:20260421T121020
CREATED:20250114T202138Z
LAST-MODIFIED:20250114T202138Z
UID:3029-1738765800-1738769400@satog.org
SUMMARY:Seminar: zapleti histeroskopij
DESCRIPTION:
URL:https://satog.org/event/seminar-zapleti-histeroskopij/
LOCATION:Seminar PB
CATEGORIES:Slovenski dogodek
ATTACH;FMTTYPE=image/jpeg:https://satog.org/wp-content/uploads/2022/12/picture.jpeg
END:VEVENT
BEGIN:VEVENT
DTSTART;TZID=UTC:20250206T130000
DTEND;TZID=UTC:20250206T150000
DTSTAMP:20260421T121020
CREATED:20250122T113102Z
LAST-MODIFIED:20250122T113102Z
UID:3042-1738846800-1738854000@satog.org
SUMMARY:Samsung webinar: Disorders of the Placenta and Umbilical Cord
DESCRIPTION:
URL:https://satog.org/event/samsung-webinar-disorders-of-the-placenta-and-umbilical-cord/
LOCATION:Webinar
ATTACH;FMTTYPE=image/png:https://satog.org/wp-content/uploads/2025/01/samsung-webinar.png
END:VEVENT
BEGIN:VEVENT
DTSTART;VALUE=DATE:20250210
DTEND;VALUE=DATE:20250211
DTSTAMP:20260421T121020
CREATED:20241223T215121Z
LAST-MODIFIED:20241223T215121Z
UID:2970-1739145600-1739231999@satog.org
SUMMARY:3. šola kontracepcije
DESCRIPTION:Spoštovani! \nV Slovenskem menopavznem društvu in Združenju za ambulantno ginekologijo letos prirejamo tretjo šolo kontracepcije. \nŠola je organizirana v dveh terminih. Prvi termin šole (31. januar) bo potekal spletno. Pred začetkom izobraževanja boste po e-pošti prejeli povezavo\, preko katere se boste lahko vključili v dogajanje na šoli. Drugi termin (10. februar) bo potekal v živo\, v prostorih Zdravniške zbornice Slovenije\, v Ljubljani. \nDogodek je namenjen vsem specialistom ginekologom in porodništva\, splošnim/družinskim zdravnikom\, farmacevtom\, medicinskim sestram\, babicam in ostalim zdravstvenim profilom. Vabljeni tudi specializanti in upokojenci\, ki so oproščeni kotizacije. Udeležencem bodo dodeljene kreditne točke.
URL:https://satog.org/event/3-sola-kontracepcije-2/
LOCATION:Domus Medica
CATEGORIES:Slovenski dogodek
ATTACH;FMTTYPE=image/png:https://satog.org/wp-content/uploads/2024/12/3.sola-kontracepcije.png
END:VEVENT
BEGIN:VEVENT
DTSTART;TZID=UTC:20250212T143000
DTEND;TZID=UTC:20250212T153000
DTSTAMP:20260421T121020
CREATED:20250114T202434Z
LAST-MODIFIED:20250114T202434Z
UID:3032-1739370600-1739374200@satog.org
SUMMARY:Edukativna sreda: Obravnava žensk s perimenopavzalnimi krvavitvami
DESCRIPTION:
URL:https://satog.org/event/edukativna-sreda-obravnava-zensk-s-perimenopavzalnimi-krvavitvami/
LOCATION:Seminar PB
CATEGORIES:Slovenski dogodek
ATTACH;FMTTYPE=image/jpeg:https://satog.org/wp-content/uploads/2022/12/picture.jpeg
END:VEVENT
BEGIN:VEVENT
DTSTART;TZID=UTC:20250213T130000
DTEND;TZID=UTC:20250213T150000
DTSTAMP:20260421T121020
CREATED:20250127T173714Z
LAST-MODIFIED:20250127T173714Z
UID:3045-1739451600-1739458800@satog.org
SUMMARY:Samsung Webinar: The value of 3D imaging from early pregnancy
DESCRIPTION:
URL:https://satog.org/event/samsung-webinar-the-value-of-3d-imaging-from-early-pregnancy/
LOCATION:Webinar
ATTACH;FMTTYPE=image/png:https://satog.org/wp-content/uploads/2025/01/samsung-webinar1.png
END:VEVENT
BEGIN:VEVENT
DTSTART;TZID=UTC:20250214T143000
DTEND;TZID=UTC:20250214T163000
DTSTAMP:20260421T121020
CREATED:20250127T175328Z
LAST-MODIFIED:20250202T170448Z
UID:3051-1739543400-1739550600@satog.org
SUMMARY:Educational lecture series - Prediction and Prevention of Preeclampsia
DESCRIPTION:Dear everyone\, \nOn 14th of February at 13:30 UK time\, Professor Kypros Nicolaides will be speaking about Prediction and Prevention of Preeclampsia. \nThis lecture will be of interest to all clinicians\, doctors\, midwives and others. We will have a 20 – 30 minutes lecture followed by a panel discussion and audience questions. \nLooking forward to seeing you on 14th of February at 13.30. \nBest wishes\, \nSteve Thornton Professor of Obstetrics\, Barts and The London School of Medicine and Dentistry And Consultant Obstetrician University Hospital Coventry and Warwickshire NHS Trust
URL:https://satog.org/event/educational-lecture-series-saving-babies-lives/
LOCATION:Webinar
ATTACH;FMTTYPE=image/png:https://satog.org/wp-content/uploads/2025/01/FMF.png
END:VEVENT
BEGIN:VEVENT
DTSTART;TZID=UTC:20250216T120000
DTEND;TZID=UTC:20250216T140000
DTSTAMP:20260421T121020
CREATED:20250109T184427Z
LAST-MODIFIED:20250109T184427Z
UID:2998-1739707200-1739714400@satog.org
SUMMARY:Webinar: The role and value of Doppler Ultrasound across all trimesters
DESCRIPTION:Join us for this advanced course on ‘The role and value of Doppler ultrasound across all trimesters’ on Sunday 16th February 2025\, led by Prof. Ahmet Baschat and Prof. Asma Khalil with a panel of international speakers\, via livestream. This blended learning course combines 1 day of asynchronous learning via the ISUOG Academy and 1 day of live learning via livestream. \nDelegates will receive access to a variety of educational materials; articles\, journals\, scans\, quizzes\, case examples and lectures before the live event. This blended learning experience will allow delegates to engage\, digest\, and understand key concepts from basic to advanced in the use of Doppler ultrasound. \nThe role and value of Doppler ultrasound across all trimesters will be centered around exploring the different uses of Doppler Ultrasound. This course will take you through ISUOG’s Doppler guidelines\, as well as the use of Doppler in screening for preeclampsia to using it in the management of fetuses at risk of anemia. \nThis course is relevant to obstetricians\, sonographers\, and midwives. \nIt will give you the opportunity to learn and advance in your use of Doppler Ultrasound in the assessment and management of a variety of obstetric and gynecological conditions\, which can be used in your daily practice.
URL:https://satog.org/event/webinar-the-role-and-value-of-doppler-ultrasound-across-all-trimesters/
LOCATION:Webinar
ATTACH;FMTTYPE=image/png:https://satog.org/wp-content/uploads/2025/01/Doppler-Ultrasound-Webinar.png
END:VEVENT
BEGIN:VEVENT
DTSTART;TZID=UTC:20250219T143000
DTEND;TZID=UTC:20250219T153000
DTSTAMP:20260421T121020
CREATED:20250114T202558Z
LAST-MODIFIED:20250114T202558Z
UID:3034-1739975400-1739979000@satog.org
SUMMARY:Seminar: Obravnava posilstva
DESCRIPTION:
URL:https://satog.org/event/seminar-obravnava-posilstva/
CATEGORIES:Slovenski dogodek
ATTACH;FMTTYPE=image/jpeg:https://satog.org/wp-content/uploads/2022/12/picture.jpeg
END:VEVENT
BEGIN:VEVENT
DTSTART;VALUE=DATE:20250220
DTEND;VALUE=DATE:20250224
DTSTAMP:20260421T121020
CREATED:20240905T150531Z
LAST-MODIFIED:20240905T150531Z
UID:2678-1740009600-1740355199@satog.org
SUMMARY:ESGO Congress
DESCRIPTION:Join ESGO 2025 Congress \nthe largest European Gathering in Gynaecological Cancers!\n\n\n\n\n\n\nESGO 2025 will be a celebration of discovery and late-breaking research\, new guidelines\, practical demonstrations\, and exclusive live surgery transmissions you don’t want to miss. \nThe 26th Congress of the European Society of Gynaecological Oncology will bring together over 2\,500 attendees from around the world for gathering of learning\, networking\, and sharing the latest developments in the field of Gynaecological Cancers —all with the goal of enhancing your knowledge\, accelerating your skills and advancing the field.
URL:https://satog.org/event/esgo-congress/
LOCATION:Rim
ATTACH;FMTTYPE=image/jpeg:https://satog.org/wp-content/uploads/2024/09/ESGO.congress.jpg
END:VEVENT
BEGIN:VEVENT
DTSTART;TZID=UTC:20250220T080000
DTEND;TZID=UTC:20250222T170000
DTSTAMP:20260421T121020
CREATED:20241212T062737Z
LAST-MODIFIED:20241212T062737Z
UID:2916-1740038400-1740243600@satog.org
SUMMARY:ESSM 2025 Dunaj
DESCRIPTION:European Society for Sexual Medicine
URL:https://satog.org/event/essm-2025-dunaj/
LOCATION:Dunaj
ATTACH;FMTTYPE=image/png:https://satog.org/wp-content/uploads/2024/12/ESSM-2025.png
END:VEVENT
BEGIN:VEVENT
DTSTART;TZID=UTC:20250222T150000
DTEND;TZID=UTC:20250222T170000
DTSTAMP:20260421T121020
CREATED:20250111T110046Z
LAST-MODIFIED:20250111T110046Z
UID:3015-1740236400-1740243600@satog.org
SUMMARY:Neuro-Urogynecology and Urogenital Pain SIG Live Discussion
DESCRIPTION:Join us on Saturday\, February 22\, 2025 at 2:00 PM UTC! To see what time this is for you\, click here. \nWe are excited to announce the next session of our Inspirational Talk’s in collaboration with our Neuro-Urogynecology and Urogenital Pain SIG! We are thrilled to have Prof Jean-Jacques Wyndaele as our February special guest. \nProf. Jean-Jacques Wyndaele is a prominent figure in the field of neuro-urology\, currently serving at the University Hospital of Antwerp in Belgium. His research interests delve deeply into the interactions between neurological disorders and urinary function\, with a particular emphasis on bladder dysfunction and neurogenic bladder management. His work not only addresses the clinical aspects of these conditions but also explores innovative treatment strategies and patient-centered care models. Engaging with him during the Neuro-urology SIG online meeting was a truly enriching experience. His extensive knowledge and passion for advancing our understanding of these complex issues foster a collaborative atmosphere that encourages new ideas and approaches in neuro-urology. It was a pleasure to hear his insights\, which inspire both current practitioners and future researchers in this vital area of medicine. \nIn line with our tradition from previous sessions\, our esteemed Steering Group will have the pleasure of interviewing Prof. Jacques Wyndaele for the initial 45 minutes. The final 15 minutes will be dedicated to engaging with the audience. \nProgram \n2:00 – 2:45 PM Interview with Prof Jean-Jacques Wyndaele \n2:45 – 3:00 PM Live Q&A \nFeel free to invite your colleagues\, including your junior trainees and other allied healthcare professionals to join. You do not need to be a member of IUGA to attend these Inspirational Talk sessions.  These sessions are free of charge for all to join in.  You don’t want to miss this!
URL:https://satog.org/event/neuro-urogynecology-and-urogenital-pain-sig-live-discussion/
LOCATION:Webinar
ATTACH;FMTTYPE=image/png:https://satog.org/wp-content/uploads/2025/01/IUGA-SIG-session.png
END:VEVENT
BEGIN:VEVENT
DTSTART;TZID=UTC:20250303T160000
DTEND;TZID=UTC:20250303T173000
DTSTAMP:20260421T121020
CREATED:20250216T101004Z
LAST-MODIFIED:20250228T185145Z
UID:3091-1741017600-1741023000@satog.org
SUMMARY:ESGO Webinar - Guidance for daily clinical decision making
DESCRIPTION:  \n\n\n\n\n\n\n\n\n\n\n\n\n\n\n\n\n\n\n\n\n\n\n\n\n\n\n\n\n\n\n\n\n\n\n\n\n\n\n\n\n\nMolecular Integrated Risk Group Stratification & Testing for Molecular and Conventional Parameters: When\, What\, Why\, and How?\n\n\n\n\n\n\n\n\n\n\n\n\n\n\n\n\n\n\n\n\n\n\n\n\n\n\n\n\n\n\n\n\n\n\n\n\n\n\n\n\n\n\n\n\nMolecular Integrated Risk Group Stratification & Testing for Molecular and Conventional Parameters: When\, What\, Why\, and How?\n\n March 3\, 2025 16:00 PM Europe/Brussels\n\nSpeaker(s): Nicole Concin\,  Xavier Matías-Guiú\,  Remi Nout\,  Tjalling Bosse\,  Francesco Fanfani\,  Sarikapan Wilailak\n\n\n\n\n\n\n\n\n\n\n\n\n\n\n\n\n\n\n\n\n\n\n\n 
URL:https://satog.org/event/esgo-webinar-guidance-for-daily-clinicla-decision-making/
LOCATION:Webinar
ATTACH;FMTTYPE=image/png:https://satog.org/wp-content/uploads/2025/02/clinical-decision-making.png
END:VEVENT
BEGIN:VEVENT
DTSTART;TZID=UTC:20250305T143000
DTEND;TZID=UTC:20250305T153000
DTSTAMP:20260421T121020
CREATED:20250114T202759Z
LAST-MODIFIED:20250114T202759Z
UID:3036-1741185000-1741188600@satog.org
SUMMARY:Seminar: anomalije posteljice
DESCRIPTION:
URL:https://satog.org/event/seminar-anomalije-posteljice/
LOCATION:Seminar PB
CATEGORIES:Slovenski dogodek
ATTACH;FMTTYPE=image/jpeg:https://satog.org/wp-content/uploads/2022/12/picture.jpeg
END:VEVENT
BEGIN:VEVENT
DTSTART;VALUE=DATE:20250306
DTEND;VALUE=DATE:20250307
DTSTAMP:20260421T121020
CREATED:20250213T144930Z
LAST-MODIFIED:20250213T144930Z
UID:3081-1741219200-1741305599@satog.org
SUMMARY:11. šola reproduktivnega zdravja žensk
DESCRIPTION:Spoštovani! \nV Slovenskem menopavznem društvu in Združenju za ambulantno ginekologijo skrbimo za ohranjanje in nadgradnjo strokovnega znanja\, zato tudi letos nadaljujemo s tradicijo prirejanja izobraževanj. \n\nLetošnja jubilejna 11. šola reproduktivnega zdravja žensk 2025 je ponovno organizirana v štirih terminih\, z namenom\, da si lahko vsak udeleženec izbere datum\, ki mu osebno najbolj ustreza. Spomladanska termina sta: četrtek\, 6. marca – v živo in v ponedeljek\, 31. marca – spletno. Izberite obliko\, ki vam bolj ustreza! \nPrijave bomo sprejemali: \n\n\n\nza 1. termin šole do vključno 27. februarja\,\nza 2. termin šole do vključno 24. marca.\n\nPo teh datumih prijave ne bodo več možne. \nKotizacija znaša 109 EUR (DDV vključen)\, upokojenci in specializanti so oproščeni. Prosimo\, da rubriko o plačniku skrbno izpolnite in kotizacijo poravnate že pred začetkom izobraževanja. \nZdravnikom\, farmacevtom in medicinskim sestram / babicam / zdravstvenikom bodo dodeljene kreditne točke. \n\nV primeru težav s prijavo oz. ostalih vprašanj\, nam pišite na infoginek@gmail.com. Kot zadevo navedite “Prijava – 11. šola – 2025”. Navedite tudi ime in priimek\, ter elektronski naslov za prijavo. \nVeselimo se vaše udeležbe!
URL:https://satog.org/event/11-sola-reproduktivnega-zdravja-zensk/
CATEGORIES:Slovenski dogodek
ATTACH;FMTTYPE=image/jpeg:https://satog.org/wp-content/uploads/2025/02/11.sola-reproduktivnega-zdravja-zensk.jpg
END:VEVENT
BEGIN:VEVENT
DTSTART;TZID=UTC:20250306T140000
DTEND;TZID=UTC:20250306T160000
DTSTAMP:20260421T121020
CREATED:20250113T165452Z
LAST-MODIFIED:20250113T165452Z
UID:3023-1741269600-1741276800@satog.org
SUMMARY:INTRAPARTUM CARDIOTOCOGRAPHY
DESCRIPTION:14:00-14:15 Introduction and objectives – Diogo Ayres de Campos (Portugal) \n14:15-15:00 Physiology of fetal oxygenation and the main aims of intrapartum cardiotocographic monitoring – Diogo Ayres de Campos (Portugal) \n15:00-15:20 Acquisition methods – Georges-Emmanuel Roth (france) \n15:20-16:00 Interpretation and management – Inês Nunes (Portugal) \n16:00-16:30 Break \n16:30-18:00 Case discussion – Diogo Ayres de Campos (Portugal)\, Inês Nunes (Portugal)\, Georges-Emmanuel Roth (France)
URL:https://satog.org/event/intrapartum-cardiotocography/
LOCATION:Webinar
ATTACH;FMTTYPE=image/png:https://satog.org/wp-content/uploads/2025/01/Intrapartum-CTG.png
END:VEVENT
BEGIN:VEVENT
DTSTART;TZID=UTC:20250314T143000
DTEND;TZID=UTC:20250314T153000
DTSTAMP:20260421T121020
CREATED:20250223T085837Z
LAST-MODIFIED:20250223T085837Z
UID:3111-1741962600-1741966200@satog.org
SUMMARY:Educational Lecture Series - Congenital CMV infection\, an ongoing and neglected pandemic
DESCRIPTION:Dear Colleagues\, \nOn 14th of March at 13:30 UK time\, Professor Yves Ville will speak on “Congenital CMV infection\, an ongoing and neglected pandemic”. This lecture will be of interest to all clinicians\, doctors\, midwives and students. We will have a 30 minutes lecture followed by a panel discussion and audience questions. \nPlease click here to register. \nLooking forward to seeing you on 14th of March at 13.30. \nBest wishes\, \nSteve Thornton\nProfessor of Obstetrics\, Barts and The London School of Medicine and Dentistry\nAnd Consultant Obstetrician University Hospital Coventry and Warwickshire NHS Trust
URL:https://satog.org/event/educational-lecture-series-congenital-cmv-infection-an-ongoing-and-neglected-pandemic/
LOCATION:Webinar
END:VEVENT
BEGIN:VEVENT
DTSTART;VALUE=DATE:20250315
DTEND;VALUE=DATE:20250316
DTSTAMP:20260421T121020
CREATED:20250310T175329Z
LAST-MODIFIED:20250310T175329Z
UID:3143-1741996800-1742083199@satog.org
SUMMARY:Power of ultrasound in the assessment of pelvic floor disorder
DESCRIPTION:Join us for our hybrid education course ‘Power of ultrasound in the assessment of pelvic floor disorders’ on Saturday 15th March 2025\, led by chairs Chairs: A/Prof. Ligita Jokubkiene and Dr Aly Youssef. \nThe hybrid course\, ‘Power of Ultrasound in the Assessment of Pelvic Floor Disorders’\, led by A/Prof. Ligita Jokubkiene and Dr. Aly Youssef\, promises to be highly insightful. Participants can gain valuable knowledge about the applications and significance of ultrasound in evaluating pelvic floor conditions. \nThis course will offer a comprehensive experience\, with on-site participants benefiting from practical\, hands-on training in 3D/4D pelvic floor ultrasound\, while remote attendees gain valuable insights through expert-led lectures. A well-rounded approach to deepening expertise in this important field!
URL:https://satog.org/event/power-of-ultrasound-in-the-assessment-of-pelvic-floor-disorder/
ATTACH;FMTTYPE=image/jpeg:https://satog.org/wp-content/uploads/2025/03/US-pelvic-floor.jpg
END:VEVENT
BEGIN:VEVENT
DTSTART;TZID=UTC:20250317T110000
DTEND;TZID=UTC:20250317T130000
DTSTAMP:20260421T121020
CREATED:20250311T170315Z
LAST-MODIFIED:20250311T170315Z
UID:3152-1742209200-1742216400@satog.org
SUMMARY:Webinar: Challenges and Advances: Vulvovaginal Disorders in Clinical Practice
DESCRIPTION:Joint webinar organized by ISSVD and OGSM featuring Prof. Hope K. Haefner discussing challenges and advances in vulvovaginal disorders.
URL:https://satog.org/event/webinar-challenges-and-advances-vulvovaginal-disorders-in-clinical-practice/
LOCATION:Webinar
ATTACH;FMTTYPE=image/jpeg:https://satog.org/wp-content/uploads/2025/03/vulvovaginal-disorders.jpg
END:VEVENT
BEGIN:VEVENT
DTSTART;TZID=UTC:20250318T163000
DTEND;TZID=UTC:20250318T180000
DTSTAMP:20260421T121020
CREATED:20250304T182047Z
LAST-MODIFIED:20250304T182047Z
UID:3118-1742315400-1742320800@satog.org
SUMMARY:Surgical Cornerstones in the Management of EC Patients
DESCRIPTION:
URL:https://satog.org/event/surgical-cornerstones-in-the-management-of-ec-patients/
LOCATION:Webinar
ATTACH;FMTTYPE=image/jpeg:https://satog.org/wp-content/uploads/2025/03/webinar.surgical-cornerstones.jpg
END:VEVENT
BEGIN:VEVENT
DTSTART;TZID=UTC:20250319T180000
DTEND;TZID=UTC:20250319T190000
DTSTAMP:20260421T121020
CREATED:20250216T102239Z
LAST-MODIFIED:20250216T102239Z
UID:3098-1742407200-1742410800@satog.org
SUMMARY:Zoom Journal Club: Controversies in Organization and Structure of Management for Rare Tumors
DESCRIPTION:Join us for March 19th 2025 IJGC Journal Club!\nControversies in Organization and Structure of Management for Rare Tumors\nSpeakers: Jonathan Ledermann\, Isabelle Ray-Coquard and David Gerhenson \nWHEN: March 19\, 2025\, 6pm CET (Brussels\, Belgium)/11am CST (Chicago\, USA)\nRegistration is not required. To join the July ZOOM Journal Club simply click on the  JOIN HERE! button below at the scheduled time.
URL:https://satog.org/event/zoom-journal-club-controversies-in-organization-and-structure-of-management-for-rare-tumors/
LOCATION:Webinar
ATTACH;FMTTYPE=image/png:https://satog.org/wp-content/uploads/2025/02/zoom-journal-club.png
END:VEVENT
BEGIN:VEVENT
DTSTART;VALUE=DATE:20250320
DTEND;VALUE=DATE:20250322
DTSTAMP:20260421T121020
CREATED:20250202T170921Z
LAST-MODIFIED:20250202T170935Z
UID:3057-1742428800-1742601599@satog.org
SUMMARY:Tečaj načrtovanja družine 2025
DESCRIPTION:Spoštovane kolegice in kolegi! \nNačrtovanje družine je temeljna človekova pravica in omogoča parom\, da dosežejo želeno število otrok z uporabo kontracepcije\, prekinitvijo neželene nosečnosti in zdravljenjem neplodnosti. Načrtovanje družine je zelo pomemben del kliničnega dela na področju ginekologije in porodništva. Za vzdrževanje visoke ravni obravnave je potrebno lastno znanje stalno obnavljati in nadgrajevati. \nVljudno vas vabimo na »Tečaj iz načrtovanja družine«\, ki bo v četrtek in petek\, 20. in 21. marca 2025 na Ginekološki kliniki UKCL. Na tečaju bomo podrobno predstavili kontracepcijo in umetno prekinitev nosečnosti. Vsebine bomo obogatili z vajami na simulatorju za vstavitev materničnega vložka ter interaktivnimi delavnicami. Po tečaju bomo izdali učbenik. \nIzobraževanje je namenjeno specializantom in specialistom ginekologije in porodništva\, družinske medicine\, pediatrije in drugih zdravstvenih strok ter medicinskim sestram/babicam\, študentom in drugim zdravstvenim delavcem. Poskrbljeno bo za pridobitev licenčnih točk pri ZZS in Zbornici – Zvezi. \nVeselimo se srečanja z vami! \nProf. dr. Bojana Pinter\, dr. med\, v. svetnica\nProf. dr. Helena Ban-Frangež\, dr. med.
URL:https://satog.org/event/tecaj-nacrtovanja-druzine-2025/
LOCATION:predavalnica Ginekološke klinike\, Šlajmerjeva 3\, Ljubljana
CATEGORIES:Slovenski dogodek
ATTACH;FMTTYPE=image/png:https://satog.org/wp-content/uploads/2025/02/Nacrtovanje-druzine-2025.png
END:VEVENT
BEGIN:VEVENT
DTSTART;TZID=UTC:20250320T130000
DTEND;TZID=UTC:20250320T150000
DTSTAMP:20260421T121020
CREATED:20250310T175013Z
LAST-MODIFIED:20250310T175013Z
UID:3140-1742475600-1742482800@satog.org
SUMMARY:Ultrasound Webinar Series - Fetal Neurology Made Easy
DESCRIPTION:
URL:https://satog.org/event/ultrasound-webinar-series-fetal-neurology-made-easy/
ATTACH;FMTTYPE=image/jpeg:https://satog.org/wp-content/uploads/2025/03/fetal-neurology.jpg
END:VEVENT
BEGIN:VEVENT
DTSTART;VALUE=DATE:20250324
DTEND;VALUE=DATE:20250325
DTSTAMP:20260421T121020
CREATED:20250127T174531Z
LAST-MODIFIED:20250127T174531Z
UID:3048-1742774400-1742860799@satog.org
SUMMARY:4.SIMPOZIJ: NOSEČNOST IN SLADKORNA BOLEZEN
DESCRIPTION:
URL:https://satog.org/event/4-simpozij-nosecnost-in-sladkorna-bolezen/
LOCATION:Ljubljana
CATEGORIES:Slovenski dogodek
ATTACH;FMTTYPE=image/jpeg:https://satog.org/wp-content/uploads/2025/01/sb-v-nosecnosti.jpg
END:VEVENT
BEGIN:VEVENT
DTSTART;VALUE=DATE:20250324
DTEND;VALUE=DATE:20250327
DTSTAMP:20260421T121020
CREATED:20250316T204516Z
LAST-MODIFIED:20250316T204516Z
UID:3166-1742774400-1743033599@satog.org
SUMMARY:IRCAD Online Masterclass – Advanced techniques in laparoscopic gynecologic surgery
DESCRIPTION:
URL:https://satog.org/event/ircad-online-masterclass-advanced-techniques-in-laparoscopic-gynecologic-surgery/
LOCATION:Online
ATTACH;FMTTYPE=image/jpeg:https://satog.org/wp-content/uploads/2025/03/wattiez.jpg
END:VEVENT
BEGIN:VEVENT
DTSTART;VALUE=DATE:20250326
DTEND;VALUE=DATE:20250330
DTSTAMP:20260421T121020
CREATED:20240217T143539Z
LAST-MODIFIED:20240217T143601Z
UID:1995-1742947200-1743292799@satog.org
SUMMARY:ECIC 2025 - 7th European Congress on Intrapartum Care
DESCRIPTION:
URL:https://satog.org/event/ecic-2025-7th-european-congress-on-intrapartum-care/
LOCATION:Madrid\, Španija
ATTACH;FMTTYPE=image/jpeg:https://satog.org/wp-content/uploads/2024/02/ECIC-2025.jpg
END:VEVENT
BEGIN:VEVENT
DTSTART;TZID=UTC:20250326T140000
DTEND;TZID=UTC:20250326T153000
DTSTAMP:20260421T121020
CREATED:20250323T205343Z
LAST-MODIFIED:20250323T205343Z
UID:3213-1742997600-1743003000@satog.org
SUMMARY:Promoting healthy ageing - Best practices in menopausal care
DESCRIPTION:Menopause is a critical transitional phase for women. The bodily changes and symptoms one experiences during menopause occur on life’s continuum\, influenced by past health and reproductive histories\, lifestyle and environmental factors. Often disruptive to personal and professional lives\, these changes also affect one’s long-term health. \nAccording to the World Health Organization\, the world’s population of menopausal and post-menopausal women is growing and estimated to reach over 1.2 billion by 2030. Menopause is a crucial time for health professionals to engage in patient-centred care to mitigate symptoms\, promote healthy ageing and contribute to positive long-term health outcomes. \nThis webinar will provide evidence-based guidance on key aspects of menopausal care\, beginning with an overview of the “health span” concept. The vital role of micronutrients and lifestyle management during menopause will then be highlighted. This will be followed by a discussion on the benefits of hormone replacement therapy (HRT) for alleviating menopausal symptoms and maintaining wellbeing. Next\, solutions to sexual health challenges for women experiencing menopause will be explored. Tailored menopausal care for women with histories of cancer will also be covered. The webinar will conclude with a lively audience Q&A discussion. \nExpand your knowledge to better assist patients by joining this FIGO webinar where we will explore multifaceted menopausal care as a crucial element of the lifecycle approach to healthcare. \nThis webinar is led by the FIGO Trustee for Europe\, Prof Chiara Benedetto\, in collaboration with the FIGO Division of Well Women Healthcare\, the FIGO Committee on Women at Menopausal Age\, the European Board & College of Obstetrics and Gynaecology (EBCOG) and the International Menopause Society (IMS). \nLanguage: English with live interpretation in French and Spanish \nModerator:\nProf Chiara Benedetto\, FIGO Trustee for Europe\, Italy \nSpeakers:\nRole of micronutrients and lifestyle management in menopause \nProf Suvarna Khadilkar\, Chair FIGO Committee on Women at Menopausal Age\, India \nBenefits of hormone therapy during menopause \nProf Andrea Riccardo Genazzani\, Member FIGO Committee on Women at Menopausal Age\, Italy \nSexual health during menopause \nProf Rossella Nappi\, President International Menopause Society\, Italy \nMenopausal care in women with a history of cancer \nProf Martha Hickey\, Member FIGO Committee on Women at Menopausal Age\, Australia \nRegister here.
URL:https://satog.org/event/promoting-healthy-ageing-best-practices-in-menopausal-care/
LOCATION:Webinar
ATTACH;FMTTYPE=image/jpeg:https://satog.org/wp-content/uploads/2025/03/FIGO-menopause.jpg
END:VEVENT
BEGIN:VEVENT
DTSTART;TZID=UTC:20250326T190000
DTEND;TZID=UTC:20250326T200000
DTSTAMP:20260421T121020
CREATED:20250313T195220Z
LAST-MODIFIED:20250313T195300Z
UID:3158-1743015600-1743019200@satog.org
SUMMARY:Talk with the Experts No. 4
DESCRIPTION:🌼 March is Endometriosis Awareness Month – Let’s Talk About Refractory Endometriosis! 🌼 \nEndometriosis affects 1 in 10 individuals worldwide\, yet refractory endometriosis—where symptoms persist despite treatment—poses unique challenges in clinical practice. Understanding and managing these complex cases requires a multidisciplinary\, patient-centred approach. \nJoin us for Talk with the Experts No. 4\, where we dive into the complexities of refractory endometriosis through a real-life case study. This interactive session will be led by: \n🔹 Prof. Hélder Ferreira\n🔹 Dr. Alin Constantin \nBoth experts will provide clinical insights\, evidence-based strategies\, and practical guidance for tackling these difficult cases. \n📅 Date: Wednesday\, 26th March 2025\n⏰ Time: 19:00 CET \nThis FREE webinar is open to all trainees & doctors in Obstetrics & Gynaecology\, offering a fantastic opportunity to enhance your knowledge and refine your clinical decision-making skills. \nDon’t miss out—let’s improve endometriosis care together!
URL:https://satog.org/event/talk-with-the-experts-no-4/
ATTACH;FMTTYPE=image/jpeg:https://satog.org/wp-content/uploads/2025/03/talk-to-experts.jpg
END:VEVENT
BEGIN:VEVENT
DTSTART;TZID=UTC:20250327T180000
DTEND;TZID=UTC:20250327T193000
DTSTAMP:20260421T121020
CREATED:20250208T093513Z
LAST-MODIFIED:20250208T093513Z
UID:3077-1743098400-1743103800@satog.org
SUMMARY:ENYGO Webinar: Vulvectomy and reconstructive procedures after radical surgery
DESCRIPTION:
URL:https://satog.org/event/enygo-webinar-vulvectomy-and-reconstructive-procedures-after-radical-surgery/
LOCATION:Webinar
ATTACH;FMTTYPE=image/png:https://satog.org/wp-content/uploads/2025/02/ENYGO.webinar.png
END:VEVENT
BEGIN:VEVENT
DTSTART;TZID=UTC:20250327T190000
DTEND;TZID=UTC:20250327T200000
DTSTAMP:20260421T121020
CREATED:20250320T170817Z
LAST-MODIFIED:20250320T170817Z
UID:3184-1743102000-1743105600@satog.org
SUMMARY:Debate Webinar: Dysmorphic Uterus Dilemma: Should it be Corrected?
DESCRIPTION:
URL:https://satog.org/event/debate-webinar-dysmorphic-uterus-dilemma-should-it-be-corrected/
ATTACH;FMTTYPE=image/jpeg:https://satog.org/wp-content/uploads/2025/03/debate-webinar.jpg
END:VEVENT
END:VCALENDAR